BEGIN:VCALENDAR
VERSION:2.0
PRODID:-//wp-events-plugin.com//7.2.3.1//EN
TZID:America/New_York
X-WR-TIMEZONE:America/New_York
BEGIN:VEVENT
UID:1304@findingconnecticut.com
DTSTART;TZID=America/New_York:20230830T200000
DTEND;TZID=America/New_York:20230830T223000
DTSTAMP:20230527T191134Z
URL:https://findingconnecticut.com/events/smoking-popes/
SUMMARY:Smoking Popes
DESCRIPTION:Smoking Popes w/ Future Teens\, Taking Meds\nAugust 30\, 2023 
  •  8 PM\n Click here for more information \n\n Space Ballroom\n425 
 Treadwell Street\nHamden\, CT 06514\n\nTo add an event please email us\, w
 e monitor for spam. We need a photo\, description and website for each sub
 mission - We do not accept submissions that are within the next 3 days. su
 bmissions at findingconnecticut.com  \n\n&nbsp\;\n\n[caption id="attachm
 ent_16083" align="alignnone" width="300"] shop.findingconnecticut.com[/cap
 tion]\n\n&nbsp\;
ATTACH;FMTTYPE=image/jpeg:https://findingconnecticut.com/wp-content/upload
 s/2023/05/Screenshot-2023-05-27-at-2.24.20-PM.png
CATEGORIES:Hamden
LOCATION:Space Ballroom\, 295 Treadwell St\,\,  Hamden\, \, Connecticut\, \
 , 06514\, United States
X-APPLE-STRUCTURED-LOCATION;VALUE=URI;X-ADDRESS=295 Treadwell St\,\,  Hamde
 n\, \, Connecticut\, \, 06514\, United States;X-APPLE-RADIUS=100;X-TITLE=S
 pace Ballroom:geo:0,0
END:VEVENT
BEGIN:VTIMEZONE
TZID:America/New_York
X-LIC-LOCATION:America/New_York
BEGIN:DAYLIGHT
DTSTART:20230312T030000
TZOFFSETFROM:-0500
TZOFFSETTO:-0400
TZNAME:EDT
END:DAYLIGHT
END:VTIMEZONE
END:VCALENDAR