BEGIN:VCALENDAR
VERSION:2.0
PRODID:-//wp-events-plugin.com//7.2.3.1//EN
TZID:America/New_York
X-WR-TIMEZONE:America/New_York
BEGIN:VEVENT
UID:6121@findingconnecticut.com
DTSTART;TZID=America/New_York:20240721T200000
DTEND;TZID=America/New_York:20240721T223000
DTSTAMP:20240511T142804Z
URL:https://findingconnecticut.com/events/small-black-w-pictureplane/
SUMMARY:Small Black w/ Pictureplane
DESCRIPTION:Small Black w/ Pictureplane\nJuly 21\,  2024  •  8 PM\n C
 lick here for more information \n\n Space Ballroom\n425 Treadwell Street
 \nHamden\, CT 06514\n\nTo add an event please email us\, we monitor for sp
 am. We need a photo\, description and website for each submission - We do 
 not accept submissions that are within the next 3 days. submissions at fin
 dingconnecticut.com\n\n[caption id="attachment_16083" align="alignnone" wi
 dth="300"] shop.findingconnecticut.com[/caption]\n\n 
ATTACH;FMTTYPE=image/jpeg:https://findingconnecticut.com/wp-content/upload
 s/2024/05/Screenshot-2024-05-08-at-5.45.36 PM.png
CATEGORIES:Hamden
LOCATION:Space Ballroom\, 295 Treadwell St\,\,  Hamden\, \, Connecticut\, \
 , 06514\, United States
X-APPLE-STRUCTURED-LOCATION;VALUE=URI;X-ADDRESS=295 Treadwell St\,\,  Hamde
 n\, \, Connecticut\, \, 06514\, United States;X-APPLE-RADIUS=100;X-TITLE=S
 pace Ballroom:geo:0,0
END:VEVENT
BEGIN:VTIMEZONE
TZID:America/New_York
X-LIC-LOCATION:America/New_York
BEGIN:DAYLIGHT
DTSTART:20240310T030000
TZOFFSETFROM:-0500
TZOFFSETTO:-0400
TZNAME:EDT
END:DAYLIGHT
END:VTIMEZONE
END:VCALENDAR