BEGIN:VCALENDAR
VERSION:2.0
PRODID:-//wp-events-plugin.com//7.2.3.1//EN
TZID:America/New_York
X-WR-TIMEZONE:America/New_York
BEGIN:VEVENT
UID:2503@findingconnecticut.com
DTSTART;TZID=America/New_York:20230909T200000
DTEND;TZID=America/New_York:20230909T220000
DTSTAMP:20230826T020443Z
URL:https://findingconnecticut.com/events/signs-of-life-the-american-pink-
 floyd-2/
SUMMARY:Signs of Life: The American Pink Floyd
DESCRIPTION:Signs of Life: The American Pink Floyd\nSeptember 9\, 2023\nCli
 ck here for more information \n\n Katharine Hepburn Cultural Arts Center
 \n 300 Main Street\n Old Saybrook\, CT 06475\n\nTo add an event please e
 mail us\, we monitor for spam. We need a photo\, description and website f
 or each submission - We do not accept submissions that are within the next
  3 days. submissions at findingconnecticut.com\n\n[caption id="attachment_
 16083" align="alignnone" width="300"] shop.findingconnecticut.com[/caption
 ]\n\n 
ATTACH;FMTTYPE=image/jpeg:https://findingconnecticut.com/wp-content/upload
 s/2023/08/image002-2.jpg
CATEGORIES:Old Saybrook
LOCATION:The Katherine Hepburn Culture Arts Center\, 300 Main Street\, \, O
 ld Saybrook\, \, Connecticut \, 06475\, New England \, United States
X-APPLE-STRUCTURED-LOCATION;VALUE=URI;X-ADDRESS=300 Main Street\, \, Old Sa
 ybrook\, \, Connecticut \, 06475\, New England \, United States;X-APPLE-RA
 DIUS=100;X-TITLE=The Katherine Hepburn Culture Arts Center:geo:0,0
END:VEVENT
BEGIN:VTIMEZONE
TZID:America/New_York
X-LIC-LOCATION:America/New_York
BEGIN:DAYLIGHT
DTSTART:20230312T030000
TZOFFSETFROM:-0500
TZOFFSETTO:-0400
TZNAME:EDT
END:DAYLIGHT
END:VTIMEZONE
END:VCALENDAR