BEGIN:VCALENDAR
VERSION:2.0
PRODID:-//wp-events-plugin.com//7.2.3.1//EN
TZID:America/New_York
X-WR-TIMEZONE:America/New_York
BEGIN:VEVENT
UID:2015@findingconnecticut.com
DTSTART;TZID=America/New_York:20230902T190000
DTEND;TZID=America/New_York:20230902T220000
DTSTAMP:20230722T130956Z
URL:https://findingconnecticut.com/events/shorebreak/
SUMMARY:Shorebreak
DESCRIPTION:Shorebreak\nSeptember 2\, 2023 • 7 - 10 pm\nClick here for mo
 re information \n\n Leif Nilsson Spring Street Studio and Gallery\n1 Spr
 ing Street\nChester\, CT 06412\n\nTo add an event please email us\, we mon
 itor for spam. We need a photo\, description and website for each submissi
 on - We do not accept submissions that are within the next 3 days. submiss
 ions at findingconnecticut.com\n\n[caption id="attachment_16083" align="al
 ignnone" width="300"] shop.findingconnecticut.com[/caption]\n\n 
ATTACH;FMTTYPE=image/jpeg:https://findingconnecticut.com/wp-content/upload
 s/2023/07/shorebreak-2023-4x6-300dpi.jpg
CATEGORIES:Chester
LOCATION:Leif Nilsson Spring Street Studio and Gallery\,  1 Spring Street\,
  Chester\, Connecticut\, 06412\, New England\, United States
X-APPLE-STRUCTURED-LOCATION;VALUE=URI;X-ADDRESS= 1 Spring Street\, Chester\
 , Connecticut\, 06412\, New England\, United States;X-APPLE-RADIUS=100;X-T
 ITLE=Leif Nilsson Spring Street Studio and Gallery:geo:0,0
END:VEVENT
BEGIN:VTIMEZONE
TZID:America/New_York
X-LIC-LOCATION:America/New_York
BEGIN:DAYLIGHT
DTSTART:20230312T030000
TZOFFSETFROM:-0500
TZOFFSETTO:-0400
TZNAME:EDT
END:DAYLIGHT
END:VTIMEZONE
END:VCALENDAR