BEGIN:VCALENDAR
VERSION:2.0
PRODID:-//wp-events-plugin.com//7.2.3.1//EN
TZID:America/New_York
X-WR-TIMEZONE:America/New_York
BEGIN:VEVENT
UID:11583@findingconnecticut.com
DTSTART;TZID=America/New_York:20260326T100000
DTEND;TZID=America/New_York:20260326T120000
DTSTAMP:20250627T182518Z
URL:https://findingconnecticut.com/events/shaun-boothe-and-the-unauthorize
 d-biography-series-the-bushnell-hartford-ct-march-26-2025-12-pm/
SUMMARY:Shaun Boothe and The Unauthorized Biography Series
DESCRIPTION:Shaun Boothe and The Unauthorized Biography Series\nMarch 26 20
 26  • 12 pm\n\n Click here for more information \n\n The Bushnell\n1
 66 Capitol Ave\nHartford\, CT 06106\n\n Click here to return to Finding C
 onnecticut's home page\nAs of March 2025\, all event listings require paym
 ent.\nTo submit your event\, please send the event details along with a ph
 oto and/or logo to submissions at findingconnecticut dot com. You can comp
 lete your payment here\nYour event will be published within 24 hours afte
 r both payment and all required information have been received.\nWe offer 
 discounts for multiple event listings.\nThank you for supporting Finding 
 Connecticut—your participation helps us grow our website and brand.\n(We
  do not publish any content that has to do with areas outside of Connectic
 ut. If you are looking to post on our Hudson Valley or New York City pages
 \, then contact us via email.)\n\n\n[caption id="attachment_16083" align="
 alignnone" width="300"] shop.findingconnecticut.com[/caption]\n\n&nbsp\;
ATTACH;FMTTYPE=image/jpeg:https://findingconnecticut.com/wp-content/upload
 s/2025/05/unnamed-57.png
CATEGORIES:Hartford
LOCATION:The Bushnell\, 166 Capitol Ave\, \, Hartford\,\, Connecticut\, \, 
 06106\, \, New England\, \, United States
X-APPLE-STRUCTURED-LOCATION;VALUE=URI;X-ADDRESS=166 Capitol Ave\, \, Hartfo
 rd\,\, Connecticut\, \, 06106\, \, New England\, \, United States;X-APPLE-
 RADIUS=100;X-TITLE=The Bushnell:geo:0,0
END:VEVENT
BEGIN:VTIMEZONE
TZID:America/New_York
X-LIC-LOCATION:America/New_York
BEGIN:DAYLIGHT
DTSTART:20260308T030000
TZOFFSETFROM:-0500
TZOFFSETTO:-0400
TZNAME:EDT
END:DAYLIGHT
END:VTIMEZONE
END:VCALENDAR