BEGIN:VCALENDAR
VERSION:2.0
PRODID:-//wp-events-plugin.com//7.2.3.1//EN
TZID:America/New_York
X-WR-TIMEZONE:America/New_York
BEGIN:VEVENT
UID:1795@findingconnecticut.com
DTSTART;TZID=America/New_York:20231109T200000
DTEND;TZID=America/New_York:20231109T223000
DTSTAMP:20230624T160026Z
URL:https://findingconnecticut.com/events/shakey-graves/
SUMMARY:Shakey Graves
DESCRIPTION:Shakey Graves\nNovember 9\, 2023\n Click here for more informa
 tion \n\n Toads Place\n300 York St\nNew Haven\, CT 06511\n\nTo add an ev
 ent please email us\, we monitor for spam. We need a photo\, description a
 nd website for each submission - We do not accept submissions that are wit
 hin the next 3 days. submissions at findingconnecticut.com  \n\n[caption
  id="attachment_16083" align="alignnone" width="300"] shop.findingconnecti
 cut.com[/caption]
ATTACH;FMTTYPE=image/jpeg:https://findingconnecticut.com/wp-content/upload
 s/2023/06/unnamed-65.jpg
LOCATION:Toads Place\, 300 York St\, New Haven\, Connecticut\, 06511\, Unit
 ed States
X-APPLE-STRUCTURED-LOCATION;VALUE=URI;X-ADDRESS=300 York St\, New Haven\, C
 onnecticut\, 06511\, United States;X-APPLE-RADIUS=100;X-TITLE=Toads Place:
 geo:0,0
END:VEVENT
BEGIN:VTIMEZONE
TZID:America/New_York
X-LIC-LOCATION:America/New_York
BEGIN:STANDARD
DTSTART:20231105T010000
TZOFFSETFROM:-0400
TZOFFSETTO:-0500
TZNAME:EST
END:STANDARD
END:VTIMEZONE
END:VCALENDAR