BEGIN:VCALENDAR
VERSION:2.0
PRODID:-//wp-events-plugin.com//7.2.3.1//EN
TZID:America/New_York
X-WR-TIMEZONE:America/New_York
BEGIN:VEVENT
UID:1965@findingconnecticut.com
DTSTART;TZID=America/New_York:20230923T120000
DTEND;TZID=America/New_York:20230923T170000
DTSTAMP:20230715T233447Z
URL:https://findingconnecticut.com/events/shades-of-abstraction-44/
SUMMARY:Shades of abstraction
DESCRIPTION:Shades of abstraction\nSeptember 23\, 2023  •  12 pm - 5 pm
 \n  Click here for more information \n\n The Kershner Gallery at Fairfi
 eld Public Library \n1080 Old Post Road\nFairfield\, Connecticut 06824\n\
 nTo add an event please email us\, we monitor for spam. We need a photo\, 
 description and website for each submission - We do not accept submissions
  that are within the next 3 days. submissions at findingconnecticut.com\n\
 n[caption id="attachment_16083" align="alignnone" width="300"] shop.findin
 gconnecticut.com[/caption]\n\n 
ATTACH;FMTTYPE=image/jpeg:https://findingconnecticut.com/wp-content/upload
 s/2023/07/SHUTTERS-AND-LACE-J-Neil-Bittner.jpg
CATEGORIES:Fairfield
LOCATION:The Kershner Gallery at Fairfield Public Library\, 1080 Old Post R
 oad \, Fairfield\, Connecticut \, 06824\, New England\, United States
X-APPLE-STRUCTURED-LOCATION;VALUE=URI;X-ADDRESS=1080 Old Post Road \, Fair
 field\, Connecticut \, 06824\, New England\, United States;X-APPLE-RADIUS=
 100;X-TITLE=The Kershner Gallery at Fairfield Public Library:geo:0,0
END:VEVENT
BEGIN:VTIMEZONE
TZID:America/New_York
X-LIC-LOCATION:America/New_York
BEGIN:DAYLIGHT
DTSTART:20230312T030000
TZOFFSETFROM:-0500
TZOFFSETTO:-0400
TZNAME:EDT
END:DAYLIGHT
END:VTIMEZONE
END:VCALENDAR