BEGIN:VCALENDAR
VERSION:2.0
PRODID:-//wp-events-plugin.com//7.2.3.1//EN
TZID:America/New_York
X-WR-TIMEZONE:America/New_York
BEGIN:VEVENT
UID:2256@findingconnecticut.com
DTSTART;TZID=America/New_York:20231028T000000
DTEND;TZID=America/New_York:20231028T000000
DTSTAMP:20230815T212436Z
URL:https://findingconnecticut.com/events/scarecrow-festival-2023-10-28/
SUMMARY:Scarecrow Festival
DESCRIPTION:Scarecrow Festival\nOctober 29\, 2023\nFor more information cli
 ck here\n\nTo add an event please email us\, we monitor for spam. We need 
 a photo\, description and website for each submission - We do not accept s
 ubmissions that are within the next 3 days. submissions at findingconnecti
 cut.com\n\n[caption id="attachment_16083" align="alignnone" width="300"] s
 hop.findingconnecticut.com[/caption]
ATTACH;FMTTYPE=image/jpeg:https://findingconnecticut.com/wp-content/upload
 s/2023/08/downtown-scarecrows.png
CATEGORIES:Manchester
END:VEVENT
BEGIN:VTIMEZONE
TZID:America/New_York
X-LIC-LOCATION:America/New_York
BEGIN:DAYLIGHT
DTSTART:20230312T030000
TZOFFSETFROM:-0500
TZOFFSETTO:-0400
TZNAME:EDT
END:DAYLIGHT
END:VTIMEZONE
END:VCALENDAR