BEGIN:VCALENDAR
VERSION:2.0
PRODID:-//wp-events-plugin.com//7.2.3.1//EN
TZID:America/New_York
X-WR-TIMEZONE:America/New_York
BEGIN:VEVENT
UID:13225@findingconnecticut.com
DTSTART;TZID=America/New_York:20251212T180000
DTEND;TZID=America/New_York:20251212T210000
DTSTAMP:20251024T210443Z
URL:https://findingconnecticut.com/events/santacon-mohegan-sun-december-12
 -2025/
SUMMARY:SantaCon
DESCRIPTION:SantaCon\nDecember 12  2025  •  6 pm - 9 pm\n\n Click her
 e for more information \n\n Mohegan Sun \n1 Mohegan Sun Blvd.\nUncasvil
 le\, CT 06382\nAs of March 2025\, all event listings require payment.\nTo 
 submit your event\, please send the event details along with a photo and/o
 r logo to submissions at findingconnecticut dot com. You can complete your
  payment here\nYour event will be published within 24 hours after both pa
 yment and all required information have been received.\nWe offer discounts
  for multiple event listings.\nThank you for supporting Finding Connectic
 ut—your participation helps us grow our website and brand.\n(We do not p
 ublish any content that has to do with areas outside of Connecticut. If yo
 u are looking to post on our Hudson Valley or New York City pages\, then c
 ontact us via email.)\n Click here to return to Finding Connecticut's hom
 e page\n\n[caption id="attachment_16083" align="alignnone" width="300"] sh
 op.findingconnecticut.com[/caption]
ATTACH;FMTTYPE=image/jpeg:https://findingconnecticut.com/wp-content/upload
 s/2025/10/vcsPRAsset_2929240_174456_987bbf15-efe9-4087-9200-984d18666149_0
 .jpg
CATEGORIES:Uncasville
LOCATION:Mohegan Sun\, 1 Mohegan Sun Blvd\, \, Uncasville\, \, Connecticut\
 , \, 06382\, New England \, United States
X-APPLE-STRUCTURED-LOCATION;VALUE=URI;X-ADDRESS=1 Mohegan Sun Blvd\, \, Unc
 asville\, \, Connecticut\, \, 06382\, New England \, United States;X-APPLE
 -RADIUS=100;X-TITLE=Mohegan Sun:geo:0,0
END:VEVENT
BEGIN:VTIMEZONE
TZID:America/New_York
X-LIC-LOCATION:America/New_York
BEGIN:STANDARD
DTSTART:20251102T010000
TZOFFSETFROM:-0400
TZOFFSETTO:-0500
TZNAME:EST
END:STANDARD
END:VTIMEZONE
END:VCALENDAR