BEGIN:VCALENDAR
VERSION:2.0
PRODID:-//wp-events-plugin.com//7.2.3.1//EN
TZID:America/New_York
X-WR-TIMEZONE:America/New_York
BEGIN:VEVENT
UID:2429@findingconnecticut.com
DTSTART;TZID=America/New_York:20230909T090000
DTEND;TZID=America/New_York:20230909T153000
DTSTAMP:20230823T141717Z
URL:https://findingconnecticut.com/events/sale-of-rare-and-unusual-plants/
SUMMARY:Sale of Rare and Unusual Plants
DESCRIPTION:Sale of Rare and Unusual Plants\nSeptember 10\, 2023\n Click h
 ere for more information \n\nTo add an event please email us\, we monitor
  for spam. We need a photo\, description and website for each submission -
  We do not accept submissions that are within the next 3 days. submissions
  at findingconnecticut.com  \n\n[caption id="attachment_16083" align="al
 ignnone" width="300"] shop.findingconnecticut.com[/caption]
ATTACH;FMTTYPE=image/jpeg:https://findingconnecticut.com/wp-content/upload
 s/2023/08/Cocktails-and-Preview-Sale-of-Rare-and-Unusual-Plants.png
CATEGORIES:Washington
END:VEVENT
BEGIN:VTIMEZONE
TZID:America/New_York
X-LIC-LOCATION:America/New_York
BEGIN:DAYLIGHT
DTSTART:20230312T030000
TZOFFSETFROM:-0500
TZOFFSETTO:-0400
TZNAME:EDT
END:DAYLIGHT
END:VTIMEZONE
END:VCALENDAR