BEGIN:VCALENDAR
VERSION:2.0
PRODID:-//wp-events-plugin.com//7.2.3.1//EN
TZID:America/New_York
X-WR-TIMEZONE:America/New_York
BEGIN:VEVENT
UID:11280@findingconnecticut.com
DTSTART;TZID=America/New_York:20250823T190000
DTEND;TZID=America/New_York:20250823T203000
DTSTAMP:20250627T170031Z
URL:https://findingconnecticut.com/events/sahib-singh-new-york-comedy-club
 -stamford-august-23-2025-7-pm/
SUMMARY:Sahib Singh
DESCRIPTION:Sahib Singh\nAugust 23 2025  •  7 pm\n\n Click here for mo
 re information \n\nNew York Comedy Club Stamford \n230 Tresser Blvd\nStam
 ford\, CT 06901\n\n Click here to return to Finding Connecticut's home pa
 ge\nAs of March 2025\, all event listings require payment.\nTo submit your
  event\, please send the event details along with a photo and/or logo to s
 ubmissions at findingconnecticut dot com. You can complete your payment h
 ere\nYour event will be published within 24 hours after both payment and a
 ll required information have been received.\nWe offer discounts for multip
 le event listings.\nThank you for supporting Finding Connecticut—your p
 articipation helps us grow our website and brand.\n(We do not publish any 
 content that has to do with areas outside of Connecticut. If you are looki
 ng to post on our Hudson Valley or New York City pages\, then contact us v
 ia email.)\n\n\n[caption id="attachment_16083" align="alignnone" width="30
 0"] shop.findingconnecticut.com[/caption]
ATTACH;FMTTYPE=image/jpeg:https://findingconnecticut.com/wp-content/upload
 s/2025/04/unnamed-3-3.jpg
CATEGORIES:Stamford
LOCATION:New York Comedy Club Stamford\, 230 Tresser Blvd\, Stamford\, CT\,
  06901\, New England\, United States
X-APPLE-STRUCTURED-LOCATION;VALUE=URI;X-ADDRESS=230 Tresser Blvd\, Stamford
 \, CT\, 06901\, New England\, United States;X-APPLE-RADIUS=100;X-TITLE=New
  York Comedy Club Stamford:geo:0,0
END:VEVENT
BEGIN:VTIMEZONE
TZID:America/New_York
X-LIC-LOCATION:America/New_York
BEGIN:DAYLIGHT
DTSTART:20250309T030000
TZOFFSETFROM:-0500
TZOFFSETTO:-0400
TZNAME:EDT
END:DAYLIGHT
END:VTIMEZONE
END:VCALENDAR