BEGIN:VCALENDAR
VERSION:2.0
PRODID:-//wp-events-plugin.com//7.2.3.1//EN
TZID:America/New_York
X-WR-TIMEZONE:America/New_York
BEGIN:VEVENT
UID:6119@findingconnecticut.com
DTSTART;TZID=America/New_York:20240602T100000
DTEND;TZID=America/New_York:20240602T170000
DTSTAMP:20240511T141915Z
URL:https://findingconnecticut.com/events/riverfest-2/
SUMMARY:Riverfest
DESCRIPTION:Riverfest\nJune 2\, 2024  •  10 am - 5 pm\n\nClick here for
  more information \n\nMystic Seaport Museum\n75 Greenmanville Ave\nMystic
 \, CT 06355\n\nTo add an event please email us\, we monitor for spam. We n
 eed a photo\, description and website for each submission - We do not acce
 pt submissions that are within the next 3 days. submissions@findingconnect
 icut.com\n\n[caption id="attachment_16083" align="alignnone" width="300"] 
 shop.findingconnecticut.com[/caption]
ATTACH;FMTTYPE=image/jpeg:https://findingconnecticut.com/wp-content/upload
 s/2024/05/4343ca01-bae8-41d3-9ec9-236d1dac92c6.jpg
CATEGORIES:Mystic
LOCATION:Mystic Seaport Museum\, 75 Greenmanville Ave\, Mystic \, Connectic
 ut \, 06355\, United States
X-APPLE-STRUCTURED-LOCATION;VALUE=URI;X-ADDRESS=75 Greenmanville Ave\, Myst
 ic \, Connecticut \, 06355\, United States;X-APPLE-RADIUS=100;X-TITLE=Myst
 ic Seaport Museum:geo:0,0
END:VEVENT
BEGIN:VTIMEZONE
TZID:America/New_York
X-LIC-LOCATION:America/New_York
BEGIN:DAYLIGHT
DTSTART:20240310T030000
TZOFFSETFROM:-0500
TZOFFSETTO:-0400
TZNAME:EDT
END:DAYLIGHT
END:VTIMEZONE
END:VCALENDAR