BEGIN:VCALENDAR
VERSION:2.0
PRODID:-//wp-events-plugin.com//7.2.3.1//EN
TZID:America/New_York
X-WR-TIMEZONE:America/New_York
BEGIN:VEVENT
UID:14355@findingconnecticut.com
DTSTART;TZID=America/New_York:20260321T190000
DTEND;TZID=America/New_York:20260321T213000
DTSTAMP:20260227T004045Z
URL:https://findingconnecticut.com/events/requiem-for-an-electric-chair-wa
 rner-theater-torrington-ct-7-pm/
SUMMARY:Requiem for an Electric Chair
DESCRIPTION:Requiem for an Electric Chair\nMarch 21\, 2026 • 7 pm\n Clic
 k here for more information\n\nWarner Theatre\n68 Main Street\nTorrington\
 , CT 06790\n\nClick here to return to Finding Connecticut's home page\n\n[
 caption id="attachment_16083" align="alignnone" width="300"] shop.findingc
 onnecticut.com[/caption]\n\n&nbsp\;
ATTACH;FMTTYPE=image/jpeg:https://findingconnecticut.com/wp-content/upload
 s/2026/02/Requiem_1080x1080.jpg
CATEGORIES:Torrington
LOCATION:Warner Theatre\,  68 Main Street\, Torrington\, Connecticut \, 06
 790\, United States
X-APPLE-STRUCTURED-LOCATION;VALUE=URI;X-ADDRESS= 68 Main Street\, Torringt
 on\, Connecticut \, 06790\, United States;X-APPLE-RADIUS=100;X-TITLE=Warne
 r Theatre:geo:0,0
END:VEVENT
BEGIN:VTIMEZONE
TZID:America/New_York
X-LIC-LOCATION:America/New_York
BEGIN:DAYLIGHT
DTSTART:20260308T030000
TZOFFSETFROM:-0500
TZOFFSETTO:-0400
TZNAME:EDT
END:DAYLIGHT
END:VTIMEZONE
END:VCALENDAR