BEGIN:VCALENDAR
VERSION:2.0
PRODID:-//wp-events-plugin.com//7.2.3.1//EN
TZID:America/New_York
X-WR-TIMEZONE:America/New_York
BEGIN:VEVENT
UID:1797@findingconnecticut.com
DTSTART;TZID=America/New_York:20230708T170000
DTEND;TZID=America/New_York:20230708T190000
DTSTAMP:20230625T164633Z
URL:https://findingconnecticut.com/events/raise-the-roof/
SUMMARY:Raise the Roof
DESCRIPTION:Raise the Roof\nJuly 8\, 2023  •  5 pm - 7 pm\n Click here
  for more information \n\n Lyme Art Association\n 90 Lyme Street\nOld L
 yme\, CT 06371\n\nTo add an event please email us\, we monitor for spam. W
 e need a photo\, description and website for each submission - We do not a
 ccept submissions that are within the next 3 days. submissions at findingc
 onnecticut.com  \n\n[caption id="attachment_16083" align="alignnone" wid
 th="300"] shop.findingconnecticut.com[/caption]
ATTACH;FMTTYPE=image/jpeg:https://findingconnecticut.com/wp-content/upload
 s/2023/06/IMG-5577.jpg
CATEGORIES:Old Lyme
LOCATION:Lyme Art Association\, 90 Lyme Street\, Old Lyme\, Connecticut\, 0
 6371\, New England\, United States
X-APPLE-STRUCTURED-LOCATION;VALUE=URI;X-ADDRESS=90 Lyme Street\, Old Lyme\,
  Connecticut\, 06371\, New England\, United States;X-APPLE-RADIUS=100;X-TI
 TLE=Lyme Art Association:geo:0,0
END:VEVENT
BEGIN:VTIMEZONE
TZID:America/New_York
X-LIC-LOCATION:America/New_York
BEGIN:DAYLIGHT
DTSTART:20230312T030000
TZOFFSETFROM:-0500
TZOFFSETTO:-0400
TZNAME:EDT
END:DAYLIGHT
END:VTIMEZONE
END:VCALENDAR