BEGIN:VCALENDAR
VERSION:2.0
PRODID:-//wp-events-plugin.com//7.2.3.1//EN
TZID:America/New_York
X-WR-TIMEZONE:America/New_York
BEGIN:VEVENT
UID:536@findingconnecticut.com
DTSTART;TZID=America/New_York:20230416T120000
DTEND;TZID=America/New_York:20230416T160000
DTSTAMP:20230302T032801Z
URL:https://findingconnecticut.com/events/rainbow-in-the-dark-by-anselm-re
 yle-5/
SUMMARY:Rainbow in the Dark by Anselm Reyle
DESCRIPTION:Rainbow in the Dark by Anselm Reyle\nMarch 19 - May 28\n\nMoCA 
 Westport Winter / Spring hours\nWed 12 – 4PM  •  Thursday 12 – 7 P
 M  •  Friday – Sunday 12 – 4 PM. MoCA\n\nClick here for more infor
 mation \n\nMoCA Westport \n19 Newtown Turnpike\nWestport\, Connecticut 0
 6880\n\nTo add an event please email us\, we monitor for spam. We need a p
 hoto\, description and website for each submission - We do not accept subm
 issions that are within the next 3 days. submissions@findingconnecticut.co
 m\n\n[caption id="attachment_16083" align="alignnone" width="300"] shop.fi
 ndingconnecticut.com[/caption]
ATTACH;FMTTYPE=image/jpeg:https://findingconnecticut.com/wp-content/upload
 s/2023/02/Anselm_Reyle_identity_final.jpeg
CATEGORIES:Westport
LOCATION:MoCA Westport\, 19 Newtown Turnpike \, Westport\, Connecticut\, 06
 880\, New England \, United States
X-APPLE-STRUCTURED-LOCATION;VALUE=URI;X-ADDRESS=19 Newtown Turnpike \, West
 port\, Connecticut\, 06880\, New England \, United States;X-APPLE-RADIUS=1
 00;X-TITLE=MoCA Westport:geo:0,0
END:VEVENT
BEGIN:VTIMEZONE
TZID:America/New_York
X-LIC-LOCATION:America/New_York
BEGIN:DAYLIGHT
DTSTART:20230312T030000
TZOFFSETFROM:-0500
TZOFFSETTO:-0400
TZNAME:EDT
END:DAYLIGHT
END:VTIMEZONE
END:VCALENDAR