BEGIN:VCALENDAR
VERSION:2.0
PRODID:-//wp-events-plugin.com//7.2.3.1//EN
TZID:America/New_York
X-WR-TIMEZONE:America/New_York
BEGIN:VEVENT
UID:407@findingconnecticut.com
DTSTART;TZID=America/New_York:20231014T100000
DTEND;TZID=America/New_York:20231014T130000
DTSTAMP:20230219T021637Z
URL:https://findingconnecticut.com/events/putnam-saturday-farmers-market-2
 0/
SUMMARY:Putnam Saturday Farmers' Market
DESCRIPTION:Putnam Saturday Farmers' Market\n  October 14\, 2023 • 10 am
  - 1 pm\n•\n18 Kennedy Drive\nPutnam\, CT 06260\noutdoors under the Putn
 am Riverview Marketplace pavilion\n•\nCT Grown certified farmers' market
 \, offering fresh and local produce\, meats\, baked goods\, plants\, flowe
 rs\, artisan creations and more. Cash\, debit\, SNAP/EBT\, FMNP\, SFMNP\, 
 and local Daily Bread coupons accepted.\n•\nTo add an event please email
  us\, we monitor for spam. We need a photo\, description and website for e
 ach submission - We do not accept submissions that are within the next 3 d
 ays. submissions@findingconnecticut.com\n\n\n[caption id="attachment_16083
 " align="alignnone" width="300"] shop.findingconnecticut.com[/caption]
ATTACH;FMTTYPE=image/jpeg:https://findingconnecticut.com/wp-content/upload
 s/2023/02/unnamed-3.png
CATEGORIES:Putnam
LOCATION:Putnam Saturday Farmers' Market\, 18 Kennedy Drive \, Putnam \, Co
 nnecticut \, 06260\, United States
X-APPLE-STRUCTURED-LOCATION;VALUE=URI;X-ADDRESS=18 Kennedy Drive \, Putnam 
 \, Connecticut \, 06260\, United States;X-APPLE-RADIUS=100;X-TITLE=Putnam 
 Saturday Farmers' Market:geo:0,0
END:VEVENT
BEGIN:VTIMEZONE
TZID:America/New_York
X-LIC-LOCATION:America/New_York
BEGIN:DAYLIGHT
DTSTART:20230312T030000
TZOFFSETFROM:-0500
TZOFFSETTO:-0400
TZNAME:EDT
END:DAYLIGHT
END:VTIMEZONE
END:VCALENDAR