BEGIN:VCALENDAR
VERSION:2.0
PRODID:-//wp-events-plugin.com//7.2.3.1//EN
TZID:America/New_York
X-WR-TIMEZONE:America/New_York
BEGIN:VEVENT
UID:403@findingconnecticut.com
DTSTART;TZID=America/New_York:20230916T100000
DTEND;TZID=America/New_York:20230916T130000
DTSTAMP:20230219T020811Z
URL:https://findingconnecticut.com/events/putnam-saturday-farmers-market-1
 6/
SUMMARY:Putnam Saturday Farmers' Market
DESCRIPTION:Putnam Saturday Farmers' Market\n  September 16\, 2023 • 10 
 am - 1 pm\n•\n18 Kennedy Drive\nPutnam\, CT 06260\noutdoors under the Pu
 tnam Riverview Marketplace pavilion\n•\nCT Grown certified farmers' mark
 et\, offering fresh and local produce\, meats\, baked goods\, plants\, flo
 wers\, artisan creations and more. Cash\, debit\, SNAP/EBT\, FMNP\, SFMNP\
 , and local Daily Bread coupons accepted.\n•\nTo add an event please ema
 il us\, we monitor for spam. We need a photo\, description and website for
  each submission - We do not accept submissions that are within the next 3
  days. submissions@findingconnecticut.com\n\n\n[caption id="attachment_160
 83" align="alignnone" width="300"] shop.findingconnecticut.com[/caption]
ATTACH;FMTTYPE=image/jpeg:https://findingconnecticut.com/wp-content/upload
 s/2023/02/unnamed-3.png
CATEGORIES:Putnam
LOCATION:Putnam Saturday Farmers' Market\, 18 Kennedy Drive \, Putnam \, Co
 nnecticut \, 06260\, United States
X-APPLE-STRUCTURED-LOCATION;VALUE=URI;X-ADDRESS=18 Kennedy Drive \, Putnam 
 \, Connecticut \, 06260\, United States;X-APPLE-RADIUS=100;X-TITLE=Putnam 
 Saturday Farmers' Market:geo:0,0
END:VEVENT
BEGIN:VTIMEZONE
TZID:America/New_York
X-LIC-LOCATION:America/New_York
BEGIN:DAYLIGHT
DTSTART:20230312T030000
TZOFFSETFROM:-0500
TZOFFSETTO:-0400
TZNAME:EDT
END:DAYLIGHT
END:VTIMEZONE
END:VCALENDAR