BEGIN:VCALENDAR
VERSION:2.0
PRODID:-//wp-events-plugin.com//7.2.3.1//EN
TZID:America/New_York
X-WR-TIMEZONE:America/New_York
BEGIN:VEVENT
UID:2111@findingconnecticut.com
DTSTART;TZID=America/New_York:20231015T140000
DTEND;TZID=America/New_York:20231015T163000
DTSTAMP:20230731T215707Z
URL:https://findingconnecticut.com/events/pride-and-prejudice/
SUMMARY:Pride and Prejudice
DESCRIPTION:Pride and Prejudice\nOctober 15\, 2023  •  2 PM\nClick here
  for more information \n\n Hartford Stage \n50 Church Street\nHartford\,
  CT 06103\n\nTo add an event please email us\, we monitor for spam. We nee
 d a photo\, description and website for each submission - We do not accept
  submissions that are within the next 3 days. submissions at findingconnec
 ticut.com  \n\n[caption id="attachment_16083" align="alignnone" width="3
 00"] shop.findingconnecticut.com[/caption]
ATTACH;FMTTYPE=image/jpeg:https://findingconnecticut.com/wp-content/upload
 s/2023/07/unnamed-85.jpg
CATEGORIES:Hartford
LOCATION:Hartford Stage\, 50 Church Street \, Hartford\, Connecticut \, 061
 03\, United States
X-APPLE-STRUCTURED-LOCATION;VALUE=URI;X-ADDRESS=50 Church Street \, Hartfor
 d\, Connecticut \, 06103\, United States;X-APPLE-RADIUS=100;X-TITLE=Hartfo
 rd Stage:geo:0,0
END:VEVENT
BEGIN:VTIMEZONE
TZID:America/New_York
X-LIC-LOCATION:America/New_York
BEGIN:DAYLIGHT
DTSTART:20230312T030000
TZOFFSETFROM:-0500
TZOFFSETTO:-0400
TZNAME:EDT
END:DAYLIGHT
END:VTIMEZONE
END:VCALENDAR