BEGIN:VCALENDAR
VERSION:2.0
PRODID:-//wp-events-plugin.com//7.2.3.1//EN
TZID:America/New_York
X-WR-TIMEZONE:America/New_York
BEGIN:VEVENT
UID:1278@findingconnecticut.com
DTSTART;TZID=America/New_York:20230729T190000
DTEND;TZID=America/New_York:20230729T223000
DTSTAMP:20230519T131526Z
URL:https://findingconnecticut.com/events/powder-ridge-festival/
SUMMARY:Powder Ridge Festival
DESCRIPTION:Powder Ridge Festival\nJuly 29\, 2023\n Click here for more in
 formation \n\n Powder Ridge Mountain Park Resort \n99 Powder Hill Rd\nM
 iddlefield\, CT 06455\n\nTo add an event please email us\, we monitor for 
 spam. We need a photo\, description and website for each submission - We d
 o not accept submissions that are within the next 3 days. submissions at f
 indingconnecticut.com  \n\n[caption id="attachment_16083" align="alignno
 ne" width="300"] shop.findingconnecticut.com[/caption]
ATTACH;FMTTYPE=image/jpeg:https://findingconnecticut.com/wp-content/upload
 s/2023/05/MUSIC-SERIES-POSTER-2.png
CATEGORIES:Middlefield
LOCATION:Powder Ridge Mountain Park Resort\, 99 Powder Hill Road \, Middlef
 ield \, Connecticut \, 06455\, New England \, United States
X-APPLE-STRUCTURED-LOCATION;VALUE=URI;X-ADDRESS=99 Powder Hill Road \, Midd
 lefield \, Connecticut \, 06455\, New England \, United States;X-APPLE-RAD
 IUS=100;X-TITLE=Powder Ridge Mountain Park Resort:geo:0,0
END:VEVENT
BEGIN:VTIMEZONE
TZID:America/New_York
X-LIC-LOCATION:America/New_York
BEGIN:DAYLIGHT
DTSTART:20230312T030000
TZOFFSETFROM:-0500
TZOFFSETTO:-0400
TZNAME:EDT
END:DAYLIGHT
END:VTIMEZONE
END:VCALENDAR