BEGIN:VCALENDAR
VERSION:2.0
PRODID:-//wp-events-plugin.com//7.2.3.1//EN
TZID:America/New_York
X-WR-TIMEZONE:America/New_York
BEGIN:VEVENT
UID:1247@findingconnecticut.com
DTSTART;TZID=America/New_York:20230723T193000
DTEND;TZID=America/New_York:20230723T223000
DTSTAMP:20230517T012152Z
URL:https://findingconnecticut.com/events/post-malone/
SUMMARY:Post Malone
DESCRIPTION:Post Malone\nJuly 23\, 2023\n\nClick here for more information
  \n\n Xfinity Theatre \n61 Savitt Way\nHartford\, CT 06120\n\nTo add an 
 event please email us\, we monitor for spam. We need a photo\, description
  and website for each submission - We do not accept submissions that are w
 ithin the next 3 days. submissions at findingconnecticut.com  \n\n[capti
 on id="attachment_16083" align="alignnone" width="300"] shop.findingconnec
 ticut.com[/caption]
ATTACH;FMTTYPE=image/jpeg:https://findingconnecticut.com/wp-content/upload
 s/2023/05/image-5.jpeg
CATEGORIES:Hartford
LOCATION:The Meadows Music Theatre\, 61 Savitt Way\, \, Hartford\,\, Connec
 ticut\, \, 06120\,\, New England \, United States
X-APPLE-STRUCTURED-LOCATION;VALUE=URI;X-ADDRESS=61 Savitt Way\, \, Hartford
 \,\, Connecticut\, \, 06120\,\, New England \, United States;X-APPLE-RADIU
 S=100;X-TITLE=The Meadows Music Theatre:geo:0,0
END:VEVENT
BEGIN:VTIMEZONE
TZID:America/New_York
X-LIC-LOCATION:America/New_York
BEGIN:DAYLIGHT
DTSTART:20230312T030000
TZOFFSETFROM:-0500
TZOFFSETTO:-0400
TZNAME:EDT
END:DAYLIGHT
END:VTIMEZONE
END:VCALENDAR