BEGIN:VCALENDAR
VERSION:2.0
PRODID:-//wp-events-plugin.com//7.2.3.1//EN
TZID:America/New_York
X-WR-TIMEZONE:America/New_York
BEGIN:VEVENT
UID:1299@findingconnecticut.com
DTSTART;TZID=America/New_York:20230624T200000
DTEND;TZID=America/New_York:20230624T223000
DTSTAMP:20230526T211256Z
URL:https://findingconnecticut.com/events/playhouse-on-park-comedy-night-s
 eries/
SUMMARY:Playhouse on Park Comedy Night Series
DESCRIPTION:Playhouse on Park Comedy Night Series\nMike Geeter and Sandy Eh
 lers\nJune 24\, 2023  • 8 PM\n Click here for more information \n\n  
 Playhouse on Park \n244 Park Road\nWest Hartford\, CT 06119\n\nTo add an 
 event please email us\, we monitor for spam. We need a photo\, description
  and website for each submission - We do not accept submissions that are w
 ithin the next 3 days. submissions at findingconnecticut.com  \n\n[capti
 on id="attachment_16083" align="alignnone" width="300"] shop.findingconnec
 ticut.com[/caption]
ATTACH;FMTTYPE=image/jpeg:https://findingconnecticut.com/wp-content/upload
 s/2023/05/4479FED2-59D3-4CD9-A692-2E77A6B12E60-scaled.jpeg
CATEGORIES:West Hartford
LOCATION:Playhouse on Park\, 244 Park Road\, West Hartford \, Connecticut \
 , 06119\, New England \, United States
X-APPLE-STRUCTURED-LOCATION;VALUE=URI;X-ADDRESS=244 Park Road\, West Hartfo
 rd \, Connecticut \, 06119\, New England \, United States;X-APPLE-RADIUS=1
 00;X-TITLE=Playhouse on Park:geo:0,0
END:VEVENT
BEGIN:VTIMEZONE
TZID:America/New_York
X-LIC-LOCATION:America/New_York
BEGIN:DAYLIGHT
DTSTART:20230312T030000
TZOFFSETFROM:-0500
TZOFFSETTO:-0400
TZNAME:EDT
END:DAYLIGHT
END:VTIMEZONE
END:VCALENDAR