BEGIN:VCALENDAR
VERSION:2.0
PRODID:-//wp-events-plugin.com//7.2.3.1//EN
TZID:America/New_York
X-WR-TIMEZONE:America/New_York
BEGIN:VEVENT
UID:14707@findingconnecticut.com
DTSTART;TZID=America/New_York:20260828T200000
DTEND;TZID=America/New_York:20260828T233000
DTSTAMP:20260305T004703Z
URL:https://findingconnecticut.com/events/pitbull-the-meadows-music-theatr
 e-hartford-ct-august-28-2026/
SUMMARY:Pitbull
DESCRIPTION:Pitbull\nAugust 28\, 2026\n\nClick here for more information \
 n\nXfinity Theatre \n61 Savitt Way\nHartford\, CT 06120\n\nClick here to 
 return to Finding Connecticut's home page\nAs of March 2025\, all event li
 stings require payment.\nTo submit your event\, please send the event deta
 ils along with a photo and/or logo to submissions at findingconnecticut do
 t com. You can complete your payment here\nYour event will be published w
 ithin 24 hours after both payment and all required information have been r
 eceived.\nWe offer discounts for multiple event listings.\nThank you for s
 upporting Finding Connecticut—your participation helps us grow our webs
 ite and brand.\n(We do not publish any content that has to do with areas o
 utside of Connecticut. If you are looking to post on our Hudson Valley or 
 New York City pages\, then contact us via email.)\n\n\n[caption id="attach
 ment_16083" align="alignnone" width="300"] shop.findingconnecticut.com[/ca
 ption]\n\n 
ATTACH;FMTTYPE=image/jpeg:https://findingconnecticut.com/wp-content/upload
 s/2024/09/unnamed-34.jpg
CATEGORIES:Hartford
LOCATION:The Meadows Music Theatre\, 61 Savitt Way\, \, Hartford\,\, Connec
 ticut\, \, 06120\,\, New England \, United States
X-APPLE-STRUCTURED-LOCATION;VALUE=URI;X-ADDRESS=61 Savitt Way\, \, Hartford
 \,\, Connecticut\, \, 06120\,\, New England \, United States;X-APPLE-RADIU
 S=100;X-TITLE=The Meadows Music Theatre:geo:0,0
END:VEVENT
BEGIN:VTIMEZONE
TZID:America/New_York
X-LIC-LOCATION:America/New_York
BEGIN:DAYLIGHT
DTSTART:20260308T030000
TZOFFSETFROM:-0500
TZOFFSETTO:-0400
TZNAME:EDT
END:DAYLIGHT
END:VTIMEZONE
END:VCALENDAR