BEGIN:VCALENDAR
VERSION:2.0
PRODID:-//wp-events-plugin.com//7.2.3.1//EN
TZID:America/New_York
X-WR-TIMEZONE:America/New_York
BEGIN:VEVENT
UID:5857@findingconnecticut.com
DTSTART;TZID=America/New_York:20240508T120000
DTEND;TZID=America/New_York:20240508T170000
DTSTAMP:20240504T223453Z
URL:https://findingconnecticut.com/events/pin-ups-2024-05-08/
SUMMARY:Pin Ups
DESCRIPTION:Pin Ups\n  Click here for more information \n\nShare your Art
 /Place Gallery experience with us by using #findingconnecticut on Instag
 ram\nClick here to learn more about Art/Place Gallery\nClick here for rece
 nt news at Art/Place Gallery\nClick here for the upcoming events at Art/Pl
 ace Gallery\nClick here for the latest events in Fairfield\nClick here for
  the upcoming events in Fairfield\nClick here for the latest news in Fairf
 ield County\nClick here for the upcoming events in Fairfield County\n\nTo 
 add an event please email us\, we monitor for spam. We need a photo\, desc
 ription and website for each submission - We do not accept submissions tha
 t are within the next 3 days. submissions at findingconnecticut.com
ATTACH;FMTTYPE=image/jpeg:https://findingconnecticut.com/wp-content/upload
 s/2024/04/MARY-LOUISE-LONG.Monotype-Idyllic-Delight.jpg
CATEGORIES:Fairfield
LOCATION:Art/Place Gallery\, 70 Stanford Street\, Fairfield\, Connecticut\,
  06824\, New England \, United States
X-APPLE-STRUCTURED-LOCATION;VALUE=URI;X-ADDRESS=70 Stanford Street\, Fairfi
 eld\, Connecticut\, 06824\, New England \, United States;X-APPLE-RADIUS=10
 0;X-TITLE=Art/Place Gallery:geo:0,0
END:VEVENT
BEGIN:VTIMEZONE
TZID:America/New_York
X-LIC-LOCATION:America/New_York
BEGIN:DAYLIGHT
DTSTART:20240310T030000
TZOFFSETFROM:-0500
TZOFFSETTO:-0400
TZNAME:EDT
END:DAYLIGHT
END:VTIMEZONE
END:VCALENDAR