BEGIN:VCALENDAR
VERSION:2.0
PRODID:-//wp-events-plugin.com//7.2.3.1//EN
TZID:America/New_York
X-WR-TIMEZONE:America/New_York
BEGIN:VEVENT
UID:4047@findingconnecticut.com
DTSTART;TZID=America/New_York:20240714T130000
DTEND;TZID=America/New_York:20240714T150000
DTSTAMP:20231224T153044Z
URL:https://findingconnecticut.com/events/phoenix-mercury-vs-connecticut-s
 un-2/
SUMMARY:Phoenix Mercury vs Connecticut Sun
DESCRIPTION:Phoenix Mercury vs Connecticut Sun\nJuly 14\, 2024 • 1 PM\n 
 Mohegan Sun \n1 Mohegan Sun Blvd.\nUncasville\, CT 06382\n  Click here f
 or more information about the Connecticut Sun 2024 Season\n  Click here t
 o view the Connecticut Sun's full 2024 home schedule\n  Click here to lea
 rn more about the Connecticut Sun\n  Click here to return to Finding Conn
 ecticut's home page\n To add an event please email us\, we monitor for sp
 am. We need a photo\, description and website for each submission - We do 
 not accept submissions that are within the next 3 days. submissions@findin
 gconnecticut.com\n\n\n[caption id="attachment_16083" align="alignnone" wid
 th="300"] shop.findingconnecticut.com[/caption]
ATTACH;FMTTYPE=image/jpeg:https://findingconnecticut.com/wp-content/upload
 s/2022/04/Unknown.png
CATEGORIES:Uncasville
LOCATION:Mohegan Sun\, 1 Mohegan Sun Blvd\, \, Uncasville\, \, Connecticut\
 , \, 06382\, New England \, United States
X-APPLE-STRUCTURED-LOCATION;VALUE=URI;X-ADDRESS=1 Mohegan Sun Blvd\, \, Unc
 asville\, \, Connecticut\, \, 06382\, New England \, United States;X-APPLE
 -RADIUS=100;X-TITLE=Mohegan Sun:geo:0,0
END:VEVENT
BEGIN:VTIMEZONE
TZID:America/New_York
X-LIC-LOCATION:America/New_York
BEGIN:DAYLIGHT
DTSTART:20240310T030000
TZOFFSETFROM:-0500
TZOFFSETTO:-0400
TZNAME:EDT
END:DAYLIGHT
END:VTIMEZONE
END:VCALENDAR