BEGIN:VCALENDAR
VERSION:2.0
PRODID:-//wp-events-plugin.com//7.2.3.1//EN
TZID:America/New_York
X-WR-TIMEZONE:America/New_York
BEGIN:VEVENT
UID:4030@findingconnecticut.com
DTSTART;TZID=America/New_York:20240307T200000
DTEND;TZID=America/New_York:20240307T223000
DTSTAMP:20231223T185846Z
URL:https://findingconnecticut.com/events/peter-frampton/
SUMMARY:Peter Frampton
DESCRIPTION:Peter Frampton\nMarch 7\, 2024 • 8 PM\n\n Click here for mor
 e information \n\n Toyota Oakdale Theater\n 95 South Turnpike Road\n W
 allingford\, CT 06492\n\nClick here to return to Finding Connecticut's hom
 e page\n\nTo add an event please email us\, we monitor for spam. We need a
  photo\, description and website for each submission - We do not accept su
 bmissions that are within the next 3 days. submissions at findingconnectic
 ut.com\n\n[caption id="attachment_16083" align="alignnone" width="300"] sh
 op.findingconnecticut.com[/caption]
ATTACH;FMTTYPE=image/jpeg:https://findingconnecticut.com/wp-content/upload
 s/2023/12/peterframpton_preview-scaled.jpg
CATEGORIES:Wallingford
LOCATION:Toyota Oakdale Theatre\, 95 S Turnpike Rd\, \, Wallingford\, \, Co
 nnecticut\, \, 06492\, New England \, United States
X-APPLE-STRUCTURED-LOCATION;VALUE=URI;X-ADDRESS=95 S Turnpike Rd\, \, Walli
 ngford\, \, Connecticut\, \, 06492\, New England \, United States;X-APPLE-
 RADIUS=100;X-TITLE=Toyota Oakdale Theatre:geo:0,0
END:VEVENT
BEGIN:VTIMEZONE
TZID:America/New_York
X-LIC-LOCATION:America/New_York
BEGIN:STANDARD
DTSTART:20231105T010000
TZOFFSETFROM:-0400
TZOFFSETTO:-0500
TZNAME:EST
END:STANDARD
END:VTIMEZONE
END:VCALENDAR