BEGIN:VCALENDAR
VERSION:2.0
PRODID:-//wp-events-plugin.com//7.2.3.1//EN
TZID:America/New_York
X-WR-TIMEZONE:America/New_York
BEGIN:VEVENT
UID:5831@findingconnecticut.com
DTSTART;TZID=America/New_York:20240811T200000
DTEND;TZID=America/New_York:20240811T223000
DTSTAMP:20240503T213727Z
URL:https://findingconnecticut.com/events/partynextdoor/
SUMMARY:PartyNextDoor
DESCRIPTION:PartyNextDoor\nAugust 11\, 2024\n Click here for more informat
 ion \n\n Toyota Oakdale Theater\n 95 South Turnpike Road\n Wallingford
 \, CT 06492\n\nTo add an event please email us\, we monitor for spam. We n
 eed a photo\, description and website for each submission - We do not acce
 pt submissions that are within the next 3 days. submissions at findingconn
 ecticut.com\n\n[caption id="attachment_16083" align="alignnone" width="300
 "] shop.findingconnecticut.com[/caption]
ATTACH;FMTTYPE=image/jpeg:https://findingconnecticut.com/wp-content/upload
 s/2024/04/unnamed-57.png
CATEGORIES:Wallingford
LOCATION:Toyota Oakdale Theatre\, 95 S Turnpike Rd\, \, Wallingford\, \, Co
 nnecticut\, \, 06492\, New England \, United States
X-APPLE-STRUCTURED-LOCATION;VALUE=URI;X-ADDRESS=95 S Turnpike Rd\, \, Walli
 ngford\, \, Connecticut\, \, 06492\, New England \, United States;X-APPLE-
 RADIUS=100;X-TITLE=Toyota Oakdale Theatre:geo:0,0
END:VEVENT
BEGIN:VTIMEZONE
TZID:America/New_York
X-LIC-LOCATION:America/New_York
BEGIN:DAYLIGHT
DTSTART:20240310T030000
TZOFFSETFROM:-0500
TZOFFSETTO:-0400
TZNAME:EDT
END:DAYLIGHT
END:VTIMEZONE
END:VCALENDAR