BEGIN:VCALENDAR
VERSION:2.0
PRODID:-//wp-events-plugin.com//7.2.3.1//EN
TZID:America/New_York
X-WR-TIMEZONE:America/New_York
BEGIN:VEVENT
UID:1058@findingconnecticut.com
DTSTART;TZID=America/New_York:20230901T190000
DTEND;TZID=America/New_York:20230901T230000
DTSTAMP:20230505T020542Z
URL:https://findingconnecticut.com/events/party-on-the-patio-the-journey-s
 how/
SUMMARY:Party on the patio: The Journey Show
DESCRIPTION:Party on the patio: The Journey Show\nSeptember 1\, 2023  • 
 7 PM\n\n Click here for more information \n\n Mohegan Sun \n1 Mohegan 
 Sun Blvd.\nUncasville\, CT 06382\n\nTo add an event please email us\, we m
 onitor for spam. We need a photo\, description and website for each submis
 sion - We do not accept submissions that are within the next 3 days. submi
 ssions at findingconnecticut.com  \n\n[caption id="attachment_16083" ali
 gn="alignnone" width="300"] shop.findingconnecticut.com[/caption]
ATTACH;FMTTYPE=image/jpeg:https://findingconnecticut.com/wp-content/upload
 s/2023/05/unnamed-33.jpg
CATEGORIES:Uncasville
LOCATION:Mohegan Sun\, 1 Mohegan Sun Blvd\, \, Uncasville\, \, Connecticut\
 , \, 06382\, New England \, United States
X-APPLE-STRUCTURED-LOCATION;VALUE=URI;X-ADDRESS=1 Mohegan Sun Blvd\, \, Unc
 asville\, \, Connecticut\, \, 06382\, New England \, United States;X-APPLE
 -RADIUS=100;X-TITLE=Mohegan Sun:geo:0,0
END:VEVENT
BEGIN:VTIMEZONE
TZID:America/New_York
X-LIC-LOCATION:America/New_York
BEGIN:DAYLIGHT
DTSTART:20230312T030000
TZOFFSETFROM:-0500
TZOFFSETTO:-0400
TZNAME:EDT
END:DAYLIGHT
END:VTIMEZONE
END:VCALENDAR