BEGIN:VCALENDAR
VERSION:2.0
PRODID:-//wp-events-plugin.com//7.2.3.1//EN
TZID:America/New_York
X-WR-TIMEZONE:America/New_York
BEGIN:VEVENT
UID:1838@findingconnecticut.com
DTSTART;TZID=America/New_York:20230727T120000
DTEND;TZID=America/New_York:20230727T160000
DTSTAMP:20230825T222319Z
URL:https://findingconnecticut.com/events/parasite-day/
SUMMARY:Parasite Day
DESCRIPTION:Parasite Day\nJuly 27\, 2023  • 12 PM  - 4 PM\nClick here f
 or more information \n\nBiology Physics Building\nUConn Storrs\n91 North 
 Eagleville Road\nStorrs\, CT 06268\n\nTo add an event please email us\, we
  monitor for spam. We need a photo\, description and website for each subm
 ission - We do not accept submissions that are within the next 3 days. sub
 missions at findingconnecticut.com  \n\n[caption id="attachment_16083" a
 lign="alignnone" width="300"] shop.findingconnecticut.com[/caption]\n\n&nb
 sp\;
ATTACH;FMTTYPE=image/jpeg:https://findingconnecticut.com/wp-content/upload
 s/2023/07/ParasiteDayFlyer2023.jpg
CATEGORIES:Storrs
LOCATION:Biology Physics Building - UConn Storrs\, 91 North Eagleville Road
 \, Storrs\, Connecticut \, 06268\, New England \, United States
X-APPLE-STRUCTURED-LOCATION;VALUE=URI;X-ADDRESS=91 North Eagleville Road\, 
 Storrs\, Connecticut \, 06268\, New England \, United States;X-APPLE-RADIU
 S=100;X-TITLE=Biology Physics Building - UConn Storrs:geo:0,0
END:VEVENT
BEGIN:VTIMEZONE
TZID:America/New_York
X-LIC-LOCATION:America/New_York
BEGIN:DAYLIGHT
DTSTART:20230312T030000
TZOFFSETFROM:-0500
TZOFFSETTO:-0400
TZNAME:EDT
END:DAYLIGHT
END:VTIMEZONE
END:VCALENDAR