BEGIN:VCALENDAR
VERSION:2.0
PRODID:-//wp-events-plugin.com//7.2.3.1//EN
TZID:America/New_York
X-WR-TIMEZONE:America/New_York
BEGIN:VEVENT
UID:1474@findingconnecticut.com
DTSTART;TZID=America/New_York:20230709T100000
DTEND;TZID=America/New_York:20230709T160000
DTSTAMP:20230608T001013Z
URL:https://findingconnecticut.com/events/outdoor-market-at-1115-main-4/
SUMMARY:Outdoor Market at 1115 Main
DESCRIPTION:Outdoor Market at 1115 Main\nJuly 9\, 2023 •  10 am - 4 pm\n
 Outdoor Market at 1115 Main\n1115 Main\nManchester\, CT 06040\n\nTo add an
  event please email us\, we monitor for spam. We need a photo\, descriptio
 n and website for each submission - We do not accept submissions that are 
 within the next 3 days. submissions at findingconnecticut.com\n\n[caption 
 id="attachment_16083" align="alignnone" width="300"] shop.findingconnectic
 ut.com[/caption]\n\n 
ATTACH;FMTTYPE=image/jpeg:https://findingconnecticut.com/wp-content/upload
 s/2023/06/Screenshot-2023-06-07-at-7.57.23-PM.png
CATEGORIES:Manchester
LOCATION:Market at 1115 Main\, 1115 Main Street\, Manchester\, Connecticut\
 , 06040\, United States
X-APPLE-STRUCTURED-LOCATION;VALUE=URI;X-ADDRESS=1115 Main Street\, Manchest
 er\, Connecticut\, 06040\, United States;X-APPLE-RADIUS=100;X-TITLE=Market
  at 1115 Main:geo:0,0
END:VEVENT
BEGIN:VTIMEZONE
TZID:America/New_York
X-LIC-LOCATION:America/New_York
BEGIN:DAYLIGHT
DTSTART:20230312T030000
TZOFFSETFROM:-0500
TZOFFSETTO:-0400
TZNAME:EDT
END:DAYLIGHT
END:VTIMEZONE
END:VCALENDAR