BEGIN:VCALENDAR
VERSION:2.0
PRODID:-//wp-events-plugin.com//7.2.3.1//EN
TZID:America/New_York
X-WR-TIMEZONE:America/New_York
BEGIN:VEVENT
UID:6635@findingconnecticut.com
DTSTART;TZID=America/New_York:20250205T193000
DTEND;TZID=America/New_York:20250205T220000
DTSTAMP:20240630T014447Z
URL:https://findingconnecticut.com/events/our-show-the-stop-time-story-9/
SUMMARY:Our Show: The Stop/Time Story
DESCRIPTION: Our Show: The Stop/Time Story\nFebruary 5\, 2025\n\n Click h
 ere for more information \n\n  Playhouse on Park\n244 Park Road\nWest Ha
 rtford\, CT 06119\n\nTo add an event please email us\, we monitor for spam
 . We need a photo\, description and website for each s    submission - W
 e do not accept submissions that are within the next 3 days. submissions a
 t findingconnecticut.com\n\n[caption id="attachment_16083" align="alignnon
 e" width="300"] shop.findingconnecticut.com[/caption]\n\n 
ATTACH;FMTTYPE=image/jpeg:https://findingconnecticut.com/wp-content/upload
 s/2024/04/IMG_4500.jpeg
CATEGORIES:West Hartford
LOCATION:Playhouse on Park\, 244 Park Road\, West Hartford \, Connecticut \
 , 06119\, New England \, United States
X-APPLE-STRUCTURED-LOCATION;VALUE=URI;X-ADDRESS=244 Park Road\, West Hartfo
 rd \, Connecticut \, 06119\, New England \, United States;X-APPLE-RADIUS=1
 00;X-TITLE=Playhouse on Park:geo:0,0
END:VEVENT
BEGIN:VTIMEZONE
TZID:America/New_York
X-LIC-LOCATION:America/New_York
BEGIN:STANDARD
DTSTART:20241103T010000
TZOFFSETFROM:-0400
TZOFFSETTO:-0500
TZNAME:EST
END:STANDARD
END:VTIMEZONE
END:VCALENDAR