BEGIN:VCALENDAR
VERSION:2.0
PRODID:-//wp-events-plugin.com//7.2.3.1//EN
TZID:America/New_York
X-WR-TIMEZONE:America/New_York
BEGIN:VEVENT
UID:2439@findingconnecticut.com
DTSTART;TZID=America/New_York:20231203T200000
DTEND;TZID=America/New_York:20231203T223000
DTSTAMP:20230824T162217Z
URL:https://findingconnecticut.com/events/oso-oso/
SUMMARY:Oso Oso
DESCRIPTION:Oso Oso\nDecember 3\, 2023  •  8 PM\n Click here for more i
 nformation \n\n Space Ballroom\n425 Treadwell Street\nHamden\, CT 06514\
 n\nTo add an event please email us\, we monitor for spam. We need a photo\
 , description and website for each submission - We do not accept submissio
 ns that are within the next 3 days. submissions at findingconnecticut.com
   \n\n&nbsp\;\n\n[caption id="attachment_16083" align="alignnone" width=
 "300"] shop.findingconnecticut.com[/caption]\n\n&nbsp\;
ATTACH;FMTTYPE=image/jpeg:https://findingconnecticut.com/wp-content/upload
 s/2023/08/Screenshot-2023-08-24-at-11.12.47-AM.png
CATEGORIES:Hamden
LOCATION:Space Ballroom\, 295 Treadwell St\,\,  Hamden\, \, Connecticut\, \
 , 06514\, United States
X-APPLE-STRUCTURED-LOCATION;VALUE=URI;X-ADDRESS=295 Treadwell St\,\,  Hamde
 n\, \, Connecticut\, \, 06514\, United States;X-APPLE-RADIUS=100;X-TITLE=S
 pace Ballroom:geo:0,0
END:VEVENT
BEGIN:VTIMEZONE
TZID:America/New_York
X-LIC-LOCATION:America/New_York
BEGIN:STANDARD
DTSTART:20231105T010000
TZOFFSETFROM:-0400
TZOFFSETTO:-0500
TZNAME:EST
END:STANDARD
END:VTIMEZONE
END:VCALENDAR