BEGIN:VCALENDAR
VERSION:2.0
PRODID:-//wp-events-plugin.com//7.2.3.1//EN
TZID:America/New_York
X-WR-TIMEZONE:America/New_York
BEGIN:VEVENT
UID:13203@findingconnecticut.com
DTSTART;TZID=America/New_York:20251113T190000
DTEND;TZID=America/New_York:20251113T213000
DTSTAMP:20251019T130959Z
URL:https://findingconnecticut.com/events/oscar-wildes-the-importance-of-b
 eing-earnest-2025-10-28-2025-10-29-2025-10-30-2025-11-04-2025-11-05-2025-1
 1-06-2025-11-11-2025-11-12-2025-11-13/
SUMMARY:Oscar Wilde’s ‘The Importance of Being Earnest’
DESCRIPTION:Oscar Wilde’s ‘The Importance of Being Earnest’\n  Click
  here for more information \n\n Westport Country Playhouse \n25 Powers 
 Court\nWestport\, Connecticut 06880\n\nClick here for more information abo
 ut submitting events. \n\nshop.findingconnecticut.com
ATTACH;FMTTYPE=image/jpeg:https://findingconnecticut.com/wp-content/upload
 s/2023/03/WestportCountryPlayhouse_byBethHuisking.jpg
CATEGORIES:Westport
LOCATION:Westport Country Playhouse\, 25 Powers Court\, \, Westport\, \, Co
 nnecticut\, \, 06880\, New England \, United States
X-APPLE-STRUCTURED-LOCATION;VALUE=URI;X-ADDRESS=25 Powers Court\, \, Westpo
 rt\, \, Connecticut\, \, 06880\, New England \, United States;X-APPLE-RADI
 US=100;X-TITLE=Westport Country Playhouse:geo:0,0
END:VEVENT
BEGIN:VTIMEZONE
TZID:America/New_York
X-LIC-LOCATION:America/New_York
BEGIN:STANDARD
DTSTART:20251102T010000
TZOFFSETFROM:-0400
TZOFFSETTO:-0500
TZNAME:EST
END:STANDARD
END:VTIMEZONE
END:VCALENDAR