BEGIN:VCALENDAR
VERSION:2.0
PRODID:-//wp-events-plugin.com//7.2.3.1//EN
TZID:America/New_York
X-WR-TIMEZONE:America/New_York
BEGIN:VEVENT
UID:13205@findingconnecticut.com
DTSTART;TZID=America/New_York:20251031T200000
DTEND;TZID=America/New_York:20251031T220000
DTSTAMP:20251019T131248Z
URL:https://findingconnecticut.com/events/oscar-wildes-the-importance-of-b
 eing-earnest-2-2025-10-31/
SUMMARY:Oscar Wilde’s ‘The Importance of Being Earnest’
DESCRIPTION:Oscar Wilde’s ‘The Importance of Being Earnest’\n  Click
  here for more information \n\n Westport Country Playhouse \n25 Powers 
 Court\nWestport\, Connecticut 06880\n\nClick here for more information abo
 ut submitting events.\n\nshop.findingconnecticut.com
ATTACH;FMTTYPE=image/jpeg:https://findingconnecticut.com/wp-content/upload
 s/2023/03/WestportCountryPlayhouse_byBethHuisking.jpg
LOCATION:Westport Country Playhouse\, 25 Powers Court\, \, Westport\, \, Co
 nnecticut\, \, 06880\, New England \, United States
X-APPLE-STRUCTURED-LOCATION;VALUE=URI;X-ADDRESS=25 Powers Court\, \, Westpo
 rt\, \, Connecticut\, \, 06880\, New England \, United States;X-APPLE-RADI
 US=100;X-TITLE=Westport Country Playhouse:geo:0,0
END:VEVENT
BEGIN:VTIMEZONE
TZID:America/New_York
X-LIC-LOCATION:America/New_York
BEGIN:DAYLIGHT
DTSTART:20250309T030000
TZOFFSETFROM:-0500
TZOFFSETTO:-0400
TZNAME:EDT
END:DAYLIGHT
END:VTIMEZONE
END:VCALENDAR