BEGIN:VCALENDAR
VERSION:2.0
PRODID:-//wp-events-plugin.com//7.2.3.1//EN
TZID:America/New_York
X-WR-TIMEZONE:America/New_York
BEGIN:VEVENT
UID:1792@findingconnecticut.com
DTSTART;TZID=America/New_York:20230701T150000
DTEND;TZID=America/New_York:20230701T190000
DTSTAMP:20230623T233055Z
URL:https://findingconnecticut.com/events/opening-reception-new-york-and-b
 eyond/
SUMMARY:Opening reception New York and Beyond
DESCRIPTION:Opening reception New York and Beyond\nJuly 1\, 2023  • 3 pm
  - 7 pm\nClick here for more information\n\n The Good Gallery \n23 South 
 Main Street\nKent\, Connecticut 06757\n\nTo add an event please email us\,
  we monitor for spam. We need a photo\, description and website for each s
 ubmission - We do not accept submissions that are within the next 3 days. 
 submissions at findingconnecticut.com  \n\n[caption id="attachment_16083
 " align="alignnone" width="300"] shop.findingconnecticut.com[/caption]\n\n
 &nbsp\;
ATTACH;FMTTYPE=image/jpeg:https://findingconnecticut.com/wp-content/upload
 s/2023/06/Screenshot-2023-06-23-at-6.07.02-PM.png
CATEGORIES:Kent
LOCATION:The Good Gallery\, 23 South Main Street\, Kent\, Connecticut \, 06
 757   \, New England\, United States
X-APPLE-STRUCTURED-LOCATION;VALUE=URI;X-ADDRESS=23 South Main Street\, Kent
 \, Connecticut \, 06757   \, New England\, United States;X-APPLE-RADIUS=10
 0;X-TITLE=The Good Gallery:geo:0,0
END:VEVENT
BEGIN:VTIMEZONE
TZID:America/New_York
X-LIC-LOCATION:America/New_York
BEGIN:DAYLIGHT
DTSTART:20230312T030000
TZOFFSETFROM:-0500
TZOFFSETTO:-0400
TZNAME:EDT
END:DAYLIGHT
END:VTIMEZONE
END:VCALENDAR