BEGIN:VCALENDAR
VERSION:2.0
PRODID:-//wp-events-plugin.com//7.2.3.1//EN
TZID:America/New_York
X-WR-TIMEZONE:America/New_York
BEGIN:VEVENT
UID:426@findingconnecticut.com
DTSTART;TZID=America/New_York:20230225T100000
DTEND;TZID=America/New_York:20230225T140000
DTSTAMP:20230219T174405Z
URL:https://findingconnecticut.com/events/norfolk-farmers-special-market/
SUMMARY:Norfolk Farmer's Special Market
DESCRIPTION:Norfolk Farmer’s Market\nFebruary 25\, 2023  • 10 am - 2 p
 m\n•\n12 Village Green\nNorfolk CT\, 06058\n•\n Special Market is dur
 ing the annual Winter Weekend in Norfolk.\n•\nTo add an event please ema
 il us\, we monitor for spam. We need a photo\, description and website for
  each submission - We do not accept submissions that are within the next 3
  days. submissions@findingconnecticut.com\n•\n\n\n[caption id="attachmen
 t_16083" align="alignnone" width="300"] shop.findingconnecticut.com[/capti
 on]
ATTACH;FMTTYPE=image/jpeg:https://findingconnecticut.com/wp-content/upload
 s/2023/02/Screenshot-2023-02-19-at-11.43.17-AM.png
CATEGORIES:Norfolk
LOCATION:Norfolk Special Farmers Market\, 12 Village Green\, Norfolk\, Conn
 ecticut\, 06058\, United States
X-APPLE-STRUCTURED-LOCATION;VALUE=URI;X-ADDRESS=12 Village Green\, Norfolk\
 , Connecticut\, 06058\, United States;X-APPLE-RADIUS=100;X-TITLE=Norfolk S
 pecial Farmers Market:geo:0,0
END:VEVENT
BEGIN:VTIMEZONE
TZID:America/New_York
X-LIC-LOCATION:America/New_York
BEGIN:STANDARD
DTSTART:20221106T010000
TZOFFSETFROM:-0400
TZOFFSETTO:-0500
TZNAME:EST
END:STANDARD
END:VTIMEZONE
END:VCALENDAR