BEGIN:VCALENDAR
VERSION:2.0
PRODID:-//wp-events-plugin.com//7.2.3.1//EN
TZID:America/New_York
X-WR-TIMEZONE:America/New_York
BEGIN:VEVENT
UID:424@findingconnecticut.com
DTSTART;TZID=America/New_York:20230826T100000
DTEND;TZID=America/New_York:20230826T130000
DTSTAMP:20230219T173203Z
URL:https://findingconnecticut.com/events/norfolk-farmers-market-14/
SUMMARY:Norfolk Farmer's Market
DESCRIPTION:Norfolk Farmer’s Market\nAugust 26\, 2023  • 10 am - 1 pm\
 n•\n19 Maple Avenue\nNorfolk CT\, 06058\n•\nThe Norfolk Farmers Market
  is a non-profit\, town-sponsored marketplace for farmers and artisans. It
 s objectives are to increase growth for local vendors\, to supply its cust
 omers with fresh food and high-quality handmade goods\, and to foster resp
 ect for local agriculture and artisans.\n•\nTo add an event please email
  us\, we monitor for spam. We need a photo\, description and website for e
 ach submission - We do not accept submissions that are within the next 3 d
 ays. submissions@findingconnecticut.com\n•\n\n\n[caption id="attachment_
 16083" align="alignnone" width="300"] shop.findingconnecticut.com[/caption
 ]
ATTACH;FMTTYPE=image/jpeg:https://findingconnecticut.com/wp-content/upload
 s/2023/02/Screenshot-2023-02-19-at-11.43.17-AM.png
CATEGORIES:Norfolk
LOCATION:Norfolk Farmer's Market\, 19 Maple Ave\, Norfolk\, Connecticut\, 0
 6058\, United States
X-APPLE-STRUCTURED-LOCATION;VALUE=URI;X-ADDRESS=19 Maple Ave\, Norfolk\, Co
 nnecticut\, 06058\, United States;X-APPLE-RADIUS=100;X-TITLE=Norfolk Farme
 r's Market:geo:0,0
END:VEVENT
BEGIN:VTIMEZONE
TZID:America/New_York
X-LIC-LOCATION:America/New_York
BEGIN:DAYLIGHT
DTSTART:20230312T030000
TZOFFSETFROM:-0500
TZOFFSETTO:-0400
TZNAME:EDT
END:DAYLIGHT
END:VTIMEZONE
END:VCALENDAR