BEGIN:VCALENDAR
VERSION:2.0
PRODID:-//wp-events-plugin.com//7.2.3.1//EN
TZID:America/New_York
X-WR-TIMEZONE:America/New_York
BEGIN:VEVENT
UID:182@findingconnecticut.com
DTSTART;TZID=America/New_York:20230418T200000
DTEND;TZID=America/New_York:20230418T223000
DTSTAMP:20230210T021746Z
URL:https://findingconnecticut.com/events/nickel-creek-with-gaby-moreno/
SUMMARY:Nickel Creek with Gaby Moreno
DESCRIPTION:Nickel Creek w/ Gaby Moreno\nApril 18\, 2023 • 8:00PM\n\nFo
 r more information click here\nCollege Street Music Hall\n238 College Stre
 et\nNew Haven\, CT 06510\nTo add an event please email us\, we monitor for
  spam. We need a photo\, description and website for each submission - We 
 d\n\n\n[caption id="attachment_16083" align="alignnone" width="300"] shop.
 findingconnecticut.com[/caption]\no not accept submissions that are within
  the next 3 days. submissions@findingconnecticut.com\n\n\n
ATTACH;FMTTYPE=image/jpeg:https://findingconnecticut.com/wp-content/upload
 s/2023/02/Screenshot-2023-02-07-at-8.07.11-PM.png
CATEGORIES:New Haven
LOCATION:College Street Music Hall\, 238 College St\, \, New Haven\, \, Con
 necticut \, 06510\, New England \, United States
X-APPLE-STRUCTURED-LOCATION;VALUE=URI;X-ADDRESS=238 College St\, \, New Hav
 en\, \, Connecticut \, 06510\, New England \, United States;X-APPLE-RADIUS
 =100;X-TITLE=College Street Music Hall:geo:0,0
END:VEVENT
BEGIN:VTIMEZONE
TZID:America/New_York
X-LIC-LOCATION:America/New_York
BEGIN:DAYLIGHT
DTSTART:20230312T030000
TZOFFSETFROM:-0500
TZOFFSETTO:-0400
TZNAME:EDT
END:DAYLIGHT
END:VTIMEZONE
END:VCALENDAR