BEGIN:VCALENDAR
VERSION:2.0
PRODID:-//wp-events-plugin.com//7.2.3.1//EN
TZID:America/New_York
X-WR-TIMEZONE:America/New_York
BEGIN:VEVENT
UID:1289@findingconnecticut.com
DTSTART;TZID=America/New_York:20240618T200000
DTEND;TZID=America/New_York:20240618T223000
DTSTAMP:20230522T232326Z
URL:https://findingconnecticut.com/events/niall-horan/
SUMMARY:Niall Horan
DESCRIPTION:Niall Horan\nJune 18\, 2024 • 8 PM\nClick here for more infor
 mation \n\n Hartford Healthcare Amphitheater\n500 Broad Street\nBridgepo
 rt\, CT 06604\n\nTo add an event please email us\, we monitor for spam. We
  need a photo\, description and website for each submission - We do not ac
 cept submissions that are within the next 3 days. submissions at findingco
 nnecticut.com \n\n\n\n[caption id="attachment_16083" align="alignnone" wi
 dth="300"] shop.findingconnecticut.com[/caption]
ATTACH;FMTTYPE=image/jpeg:https://findingconnecticut.com/wp-content/upload
 s/2023/05/ee74b557-60c5-4aea-92ed-4c439f72d08c.png
CATEGORIES:Bridgeport
LOCATION:Hartford HealthCare Amphitheater\, 500 Broad St\, \, Bridgeport\, 
 \, Connecticut\, \, 06604\,\, New England\, \, United States
X-APPLE-STRUCTURED-LOCATION;VALUE=URI;X-ADDRESS=500 Broad St\, \, Bridgepor
 t\, \, Connecticut\, \, 06604\,\, New England\, \, United States;X-APPLE-R
 ADIUS=100;X-TITLE=Hartford HealthCare Amphitheater:geo:0,0
END:VEVENT
BEGIN:VTIMEZONE
TZID:America/New_York
X-LIC-LOCATION:America/New_York
BEGIN:DAYLIGHT
DTSTART:20240310T030000
TZOFFSETFROM:-0500
TZOFFSETTO:-0400
TZNAME:EDT
END:DAYLIGHT
END:VTIMEZONE
END:VCALENDAR