BEGIN:VCALENDAR
VERSION:2.0
PRODID:-//wp-events-plugin.com//7.2.3.1//EN
TZID:America/New_York
X-WR-TIMEZONE:America/New_York
BEGIN:VEVENT
UID:13807@findingconnecticut.com
DTSTART;TZID=America/New_York:20260802T181000
DTEND;TZID=America/New_York:20260802T201000
DTSTAMP:20260205T132954Z
URL:https://findingconnecticut.com/events/new-hampshire-fisher-cats-vs-har
 tford-yard-goats-august-1-2026/
SUMMARY:New Hampshire Fisher Cats vs Hartford Yard Goats
DESCRIPTION:New Hampshire Fisher Cats vs Hartford Yard Goats \nAugust 1\, 
 2026  • 6:10 pm\n\n For more information\, click here. \n\n Dunkin D
 onuts Park \n1214 Main Street\nHartford\, CT 06103\nAs of March 2025\, al
 l event listings require payment.\nTo submit your event\, please send the 
 event details along with a photo and/or logo to submissions at findingconn
 ecticut dot com. You can complete your payment here\nYour event will be p
 ublished within 24 hours after both payment and all required information h
 ave been received.\nWe offer discounts for multiple event listings.\nThank
  you for supporting Finding Connecticut—your participation helps us gro
 w our website and brand.\n(We do not publish any content that has to do wi
 th areas outside of Connecticut. If you are looking to post on our Hudson 
 Valley or New York City pages\, then contact us via email.)\n\n\n[caption 
 id="attachment_16083" align="alignnone" width="300"] shop.findingconnectic
 ut.com[/caption]
ATTACH;FMTTYPE=image/jpeg:https://findingconnecticut.com/wp-content/upload
 s/2021/08/iu-1.png
CATEGORIES:Hartford
LOCATION:Dunkin'  Park\, 1214 Main St\, Hartford \, Connecticut \, 06103\, 
 New England\, United States
X-APPLE-STRUCTURED-LOCATION;VALUE=URI;X-ADDRESS=1214 Main St\, Hartford \, 
 Connecticut \, 06103\, New England\, United States;X-APPLE-RADIUS=100;X-TI
 TLE=Dunkin'  Park:geo:0,0
END:VEVENT
BEGIN:VTIMEZONE
TZID:America/New_York
X-LIC-LOCATION:America/New_York
BEGIN:DAYLIGHT
DTSTART:20260308T030000
TZOFFSETFROM:-0500
TZOFFSETTO:-0400
TZNAME:EDT
END:DAYLIGHT
END:VTIMEZONE
END:VCALENDAR