BEGIN:VCALENDAR
VERSION:2.0
PRODID:-//wp-events-plugin.com//7.2.3.1//EN
TZID:America/New_York
X-WR-TIMEZONE:America/New_York
BEGIN:VEVENT
UID:123@findingconnecticut.com
DTSTART;TZID=America/New_York:20230820T130000
DTEND;TZID=America/New_York:20230820T160000
DTSTAMP:20230613T231649Z
URL:https://findingconnecticut.com/events/new-hampshire-fisher-cats-vs-har
 tford-wolf-pack-12/
SUMMARY:New Hampshire Fisher Cats vs Hartford Yard Goats
DESCRIPTION:New Hampshire Fisher Cats vs Hartford Yard Goats \nAugust 20\,
  2023  •  1:10 PM\n\nDunkin Donuts Park \n1214 Main Street\nHartford\
 , CT 06103\nTo add an event please email us\, we monitor for spam. We need
  a photo\, description and website for each submission - We do not accept 
 submissions that are within the next 3 days. submissions@findingconnecticu
 t.com\n\n\n[caption id="attachment_16083" align="alignnone" width="300"] s
 hop.findingconnecticut.com[/caption]
ATTACH;FMTTYPE=image/jpeg:https://findingconnecticut.com/wp-content/upload
 s/2021/08/iu-1.png
CATEGORIES:Hartford
LOCATION:Dunkin'  Park\, 1214 Main St\, Hartford \, Connecticut \, 06103\, 
 New England\, United States
X-APPLE-STRUCTURED-LOCATION;VALUE=URI;X-ADDRESS=1214 Main St\, Hartford \, 
 Connecticut \, 06103\, New England\, United States;X-APPLE-RADIUS=100;X-TI
 TLE=Dunkin'  Park:geo:0,0
END:VEVENT
BEGIN:VTIMEZONE
TZID:America/New_York
X-LIC-LOCATION:America/New_York
BEGIN:DAYLIGHT
DTSTART:20230312T030000
TZOFFSETFROM:-0500
TZOFFSETTO:-0400
TZNAME:EDT
END:DAYLIGHT
END:VTIMEZONE
END:VCALENDAR