BEGIN:VCALENDAR
VERSION:2.0
PRODID:-//wp-events-plugin.com//7.2.3.1//EN
TZID:America/New_York
X-WR-TIMEZONE:America/New_York
BEGIN:VEVENT
UID:8986@findingconnecticut.com
DTSTART;TZID=America/New_York:20251220T100000
DTEND;TZID=America/New_York:20251220T140000
DTSTAMP:20241218T000028Z
URL:https://findingconnecticut.com/events/new-canaan-farmers-market-2025-1
 2-20/
SUMMARY:New Canaan Farmers Market
DESCRIPTION:New Canaan Farmers Market\nLumber Yard Lot (near the train stat
 ion)\n244 Elm Street New Canaan\, CT 06840\n\nSaturdays from April - Decmb
 er\, 10 am - 2 pm\nRain or shine\n\nAfter 25 years\, we are still the fres
 hest family event of the season!\nNestled on the edge of downtown New Cana
 an\, with a quick stroll to the\nmarket\, one can easily see why it was vo
 ted "2005 Best Farmers Market of\nthe Gold Coast" by the readers of the Mo
 ffly Publications local\nmagazines and 2006 Best Farmers Market of Fairfie
 ld County by the\nreaders of Fairfield County Weekly newspaper. From the s
 crumptious smell\nof a perfectly ripened peach to the ever-tantalizing tas
 tings of the\nfreshly-made pesto and tomato samples\, it will be hard to r
 esist such\nsimply elegant cuisine. Enjoy the freshest\, finest CT grown a
 nd made\nhandcrafted products this state has to offer.\n\nFor more informa
 tion click here \n\nShare your New Canaan Farmers Market experience with 
 us by using #findingconnecticut on Instagram\nTo add an event please emai
 l us\, we monitor for spam. We need a photo\, description and website for 
 each submission - We do not accept submissions that are within the next 3 
 days. submissions@findingconnecticut.com\nClick here to return to our home
  page.\n\n[caption id="attachment_16083" align="alignnone" width="300"] sh
 op.findingconnecticut.com[/caption]\n\n&nbsp\;
ATTACH;FMTTYPE=image/jpeg:https://findingconnecticut.com/wp-content/upload
 s/2023/02/newcanaanfarmersmarket_logo_resized.jpg
CATEGORIES:New Canaan
LOCATION:New Canaan Farmers Markets\, 244 Elm Street\, New Canaan \, Connec
 ticut \, 06840\, New England \, United States
X-APPLE-STRUCTURED-LOCATION;VALUE=URI;X-ADDRESS=244 Elm Street\, New Canaan
  \, Connecticut \, 06840\, New England \, United States;X-APPLE-RADIUS=100
 ;X-TITLE=New Canaan Farmers Markets:geo:0,0
END:VEVENT
BEGIN:VTIMEZONE
TZID:America/New_York
X-LIC-LOCATION:America/New_York
BEGIN:STANDARD
DTSTART:20251102T010000
TZOFFSETFROM:-0400
TZOFFSETTO:-0500
TZNAME:EST
END:STANDARD
END:VTIMEZONE
END:VCALENDAR