BEGIN:VCALENDAR
VERSION:2.0
PRODID:-//wp-events-plugin.com//7.2.3.1//EN
TZID:America/New_York
X-WR-TIMEZONE:America/New_York
BEGIN:VEVENT
UID:6178@findingconnecticut.com
DTSTART;TZID=America/New_York:20241129T200000
DTEND;TZID=America/New_York:20241129T223000
DTSTAMP:20240525T225104Z
URL:https://findingconnecticut.com/events/mullett/
SUMMARY:Mullett
DESCRIPTION:Mullett\nNovember 29  2024 • 8 PM\n\n Click here for more i
 nformation \n\n The Warehouse at Fairfield Theatre Company \n70 Sanford 
 Street\nFairfield\, CT 06824\n\nTo add an event please email us\, we monit
 or for spam. We need a photo\, description and website for each submission
  - We do not accept submissions that are within the next 3 days. submissio
 ns at findingconnecticut.com\n\n[caption id="attachment_16083" align="alig
 nnone" width="300"] shop.findingconnecticut.com[/caption]
ATTACH;FMTTYPE=image/jpeg:https://findingconnecticut.com/wp-content/upload
 s/2024/05/A-9220891-1648262894-9132.jpg
CATEGORIES:Fairfield
LOCATION:The Warehouse @ Fairfield Theatre Company\, 70 Stanford Street \, 
 Fairfield\, Connecticut \, 06824\, New England \, United States
X-APPLE-STRUCTURED-LOCATION;VALUE=URI;X-ADDRESS=70 Stanford Street \, Fairf
 ield\, Connecticut \, 06824\, New England \, United States;X-APPLE-RADIUS=
 100;X-TITLE=The Warehouse @ Fairfield Theatre Company:geo:0,0
END:VEVENT
BEGIN:VTIMEZONE
TZID:America/New_York
X-LIC-LOCATION:America/New_York
BEGIN:STANDARD
DTSTART:20241103T010000
TZOFFSETFROM:-0400
TZOFFSETTO:-0500
TZNAME:EST
END:STANDARD
END:VTIMEZONE
END:VCALENDAR