BEGIN:VCALENDAR
VERSION:2.0
PRODID:-//wp-events-plugin.com//7.2.3.1//EN
TZID:America/New_York
X-WR-TIMEZONE:America/New_York
BEGIN:VEVENT
UID:2437@findingconnecticut.com
DTSTART;TZID=America/New_York:20231008T183000
DTEND;TZID=America/New_York:20231008T203000
DTSTAMP:20230823T152104Z
URL:https://findingconnecticut.com/events/mrs-doubtfire-8/
SUMMARY:Mrs. Doubtfire
DESCRIPTION:Mrs. Doubtfire\n   October 8\, 2023   •  6:30 PM\n\n Cli
 ck here for more information \n\n The Bushnell\n166 Capitol Ave\nHartfor
 d\, CT 06106\n\nTo add an event please email us\, we monitor for spam. We 
 need a photo\, description and website for each submission - We do not acc
 ept submissions that are within the next 3 days. submissions@findingconnec
 ticut.com\n\n[caption id="attachment_16083" align="alignnone" width="300"]
  shop.findingconnecticut.com[/caption]\n\n&nbsp\;
ATTACH;FMTTYPE=image/jpeg:https://findingconnecticut.com/wp-content/upload
 s/2023/08/unnamed-7-1.jpg
CATEGORIES:Hartford
LOCATION:The Bushnell\, 166 Capitol Ave\, \, Hartford\,\, Connecticut\, \, 
 06106\, \, New England\, \, United States
X-APPLE-STRUCTURED-LOCATION;VALUE=URI;X-ADDRESS=166 Capitol Ave\, \, Hartfo
 rd\,\, Connecticut\, \, 06106\, \, New England\, \, United States;X-APPLE-
 RADIUS=100;X-TITLE=The Bushnell:geo:0,0
END:VEVENT
BEGIN:VTIMEZONE
TZID:America/New_York
X-LIC-LOCATION:America/New_York
BEGIN:DAYLIGHT
DTSTART:20230312T030000
TZOFFSETFROM:-0500
TZOFFSETTO:-0400
TZNAME:EDT
END:DAYLIGHT
END:VTIMEZONE
END:VCALENDAR