BEGIN:VCALENDAR
VERSION:2.0
PRODID:-//wp-events-plugin.com//7.2.3.1//EN
TZID:America/New_York
X-WR-TIMEZONE:America/New_York
BEGIN:VEVENT
UID:8903@findingconnecticut.com
DTSTART;TZID=America/New_York:20250627T150000
DTEND;TZID=America/New_York:20250627T180000
DTSTAMP:20250627T144422Z
URL:https://findingconnecticut.com/events/monroe-farmers-market-2025-06-27
 /
SUMMARY:Monroe Farmers Market
DESCRIPTION:Monroe Farmers’ Market\n7 Fan Hill Road Monroe CT (in front o
 f Town Hall) • 3 PM - 6 PM\n\nEach week\, The Monroe Farmers’ Market b
 rings you the freshest\, locally-grown produce\, sweet and savory baked go
 ods\, and prepared foods from right here in Connecticut. We combine our lo
 ve of fresh\, local products with local musicians\, samplings\, weekly chi
 ldren’s programs\, and special events throughout the season. Come see wh
 y we were voted CT’s #1 Farmers’ Market two years in a row!\nAs of Mar
 ch 2025\, all event listings require payment.\nTo submit your event\, plea
 se send the event details along with a photo and/or logo to submissions at
  findingconnecticut dot com. You can complete your payment here\nYour eve
 nt will be published within 24 hours after both payment and all required i
 nformation have been received.\nWe offer discounts for multiple event list
 ings.\nThank you for supporting Finding Connecticut—your participation 
 helps us grow our website and brand.\n(We do not publish any content that 
 has to do with areas outside of Connecticut. If you are looking to post on
  our Hudson Valley or New York City pages\, then contact us via email.)\n\
 n\n[caption id="attachment_16083" align="alignnone" width="300"] shop.find
 ingconnecticut.com[/caption]
ATTACH;FMTTYPE=image/jpeg:https://findingconnecticut.com/wp-content/upload
 s/2023/02/unnamed-1.png
CATEGORIES:Monroe
LOCATION:Monroe Farmers Market\, 7 Fan Hill Road\, Monroe\, CT \, 06468\, N
 ew England \, United States
X-APPLE-STRUCTURED-LOCATION;VALUE=URI;X-ADDRESS=7 Fan Hill Road\, Monroe\, 
 CT \, 06468\, New England \, United States;X-APPLE-RADIUS=100;X-TITLE=Monr
 oe Farmers Market:geo:0,0
END:VEVENT
BEGIN:VTIMEZONE
TZID:America/New_York
X-LIC-LOCATION:America/New_York
BEGIN:DAYLIGHT
DTSTART:20250309T030000
TZOFFSETFROM:-0500
TZOFFSETTO:-0400
TZNAME:EDT
END:DAYLIGHT
END:VTIMEZONE
END:VCALENDAR