BEGIN:VCALENDAR
VERSION:2.0
PRODID:-//wp-events-plugin.com//7.2.3.1//EN
TZID:America/New_York
X-WR-TIMEZONE:America/New_York
BEGIN:VEVENT
UID:14743@findingconnecticut.com
DTSTART;TZID=America/New_York:20260618T200000
DTEND;TZID=America/New_York:20260618T223000
DTSTAMP:20260310T154326Z
URL:https://findingconnecticut.com/events/moe-umphreys-mcgee-college-stree
 t-music-hall-new-haven-ct-june-18-2026/
SUMMARY:Moe. & Umphrey’s McGee
DESCRIPTION:Moe. &amp\; Umphrey’s McGee\nJune 18\, 2026\n\n  Click here
  for more information \n\n  College Street Music Hall\n238 College Stree
 t\nNew Haven\, CT 06510\n\nClick here to return to Finding Connecticut's h
 ome page\nAs of March 2025\, all event listings require payment.\nTo submi
 t your event\, please send the event details along with a photo and/or log
 o to submissions at findingconnecticut dot com. You can complete your paym
 ent here\nYour event will be published within 24 hours after both payment
  and all required information have been received.\nWe offer discounts for 
 multiple event listings.\nThank you for supporting Finding Connecticut—
 your participation helps us grow our website and brand.\n\n\n[caption id="
 attachment_16083" align="alignnone" width="300"] shop.findingconnecticut.c
 om[/caption]
ATTACH;FMTTYPE=image/jpeg:https://findingconnecticut.com/wp-content/upload
 s/2025/06/DSC_9049.jpg
CATEGORIES:New Haven
LOCATION:College Street Music Hall\, 238 College St\, \, New Haven\, \, Con
 necticut \, 06510\, New England \, United States
X-APPLE-STRUCTURED-LOCATION;VALUE=URI;X-ADDRESS=238 College St\, \, New Hav
 en\, \, Connecticut \, 06510\, New England \, United States;X-APPLE-RADIUS
 =100;X-TITLE=College Street Music Hall:geo:0,0
END:VEVENT
BEGIN:VTIMEZONE
TZID:America/New_York
X-LIC-LOCATION:America/New_York
BEGIN:DAYLIGHT
DTSTART:20260308T030000
TZOFFSETFROM:-0500
TZOFFSETTO:-0400
TZNAME:EDT
END:DAYLIGHT
END:VTIMEZONE
END:VCALENDAR