BEGIN:VCALENDAR
VERSION:2.0
PRODID:-//wp-events-plugin.com//7.2.3.1//EN
TZID:America/New_York
X-WR-TIMEZONE:America/New_York
BEGIN:VEVENT
UID:7233@findingconnecticut.com
DTSTART;TZID=America/New_York:20250724T100000
DTEND;TZID=America/New_York:20250724T200000
DTSTAMP:20250627T145307Z
URL:https://findingconnecticut.com/events/modern-women-visionary-artists-2
 -2025-07-24/
SUMMARY:Modern Women: Visionary Artists
DESCRIPTION:Modern Women: Visionary Artists\nClick here for more informatio
 n \n\nNew Britain Museum of American Arts\n56 Lexington Street\nNew Brita
 in\, CT 06052\n\nClick here to learn more about the New Britain Museum of 
 American Arts\nClick here for the latest news on the New Britain Museum of
  American Arts\nAs of March 2025\, all event listings require payment.\nTo
  submit your event\, please send the event details along with a photo and/
 or logo to submissions at findingconnecticut dot com. You can complete you
 r payment here\nYour event will be published within 24 hours after both p
 ayment and all required information have been received.\nWe offer discount
 s for multiple event listings.\nThank you for supporting Finding Connecti
 cut—your participation helps us grow our website and brand.\n(We do not 
 publish any content that has to do with areas outside of Connecticut. If y
 ou are looking to post on our Hudson Valley or New York City pages\, then 
 contact us via email.)
ATTACH;FMTTYPE=image/jpeg:https://findingconnecticut.com/wp-content/upload
 s/2024/08/new-britian-museum-of-American-art-_preview-scaled.jpg
CATEGORIES:New Britain
LOCATION:New Britain Museum of American Arts\, 56 Lexington Street\, New Br
 itain\, Connecticut\, 06052\, New England\, United States
X-APPLE-STRUCTURED-LOCATION;VALUE=URI;X-ADDRESS=56 Lexington Street\, New B
 ritain\, Connecticut\, 06052\, New England\, United States;X-APPLE-RADIUS=
 100;X-TITLE=New Britain Museum of American Arts:geo:0,0
END:VEVENT
BEGIN:VTIMEZONE
TZID:America/New_York
X-LIC-LOCATION:America/New_York
BEGIN:DAYLIGHT
DTSTART:20250309T030000
TZOFFSETFROM:-0500
TZOFFSETTO:-0400
TZNAME:EDT
END:DAYLIGHT
END:VTIMEZONE
END:VCALENDAR