BEGIN:VCALENDAR
VERSION:2.0
PRODID:-//wp-events-plugin.com//7.2.3.1//EN
TZID:America/New_York
X-WR-TIMEZONE:America/New_York
BEGIN:VEVENT
UID:2954@findingconnecticut.com
DTSTART;TZID=America/New_York:20231027T093000
DTEND;TZID=America/New_York:20231027T133000
DTSTAMP:20231011T192311Z
URL:https://findingconnecticut.com/events/milford-trick-or-trot-5k/
SUMMARY:Milford Trick or Trot 5K
DESCRIPTION:Milford Trick or Trot 5K\nOctober 28\, 2023\n\n Click here for
  more information \n\n Downtown Milford Farmer's Market\nWasson Field\n1
 08 Main Street\nMilford\, CT 06460\n\nTo add an event please email us\, we
  monitor for spam. We need a photo\, description and website for each subm
 ission - We do not accept submissions that are within the next 3 days. sub
 missions at findingconnecticut.com  \n\n[caption id="attachment_16083" a
 lign="alignnone" width="300"] shop.findingconnecticut.com[/caption]\n\n&nb
 sp\;
ATTACH;FMTTYPE=image/jpeg:https://findingconnecticut.com/wp-content/upload
 s/2023/10/HALLOWEEKEND_DMBA_2023_FBEvnt.jpg
CATEGORIES:Milford
LOCATION:Downtown Milford Farmers' Market\, 108 Main Street\, Milford\, Con
 necticut\, 06460\, United States
X-APPLE-STRUCTURED-LOCATION;VALUE=URI;X-ADDRESS=108 Main Street\, Milford\,
  Connecticut\, 06460\, United States;X-APPLE-RADIUS=100;X-TITLE=Downtown M
 ilford Farmers' Market:geo:0,0
END:VEVENT
BEGIN:VTIMEZONE
TZID:America/New_York
X-LIC-LOCATION:America/New_York
BEGIN:DAYLIGHT
DTSTART:20230312T030000
TZOFFSETFROM:-0500
TZOFFSETTO:-0400
TZNAME:EDT
END:DAYLIGHT
END:VTIMEZONE
END:VCALENDAR