BEGIN:VCALENDAR
VERSION:2.0
PRODID:-//wp-events-plugin.com//7.2.3.1//EN
TZID:America/New_York
X-WR-TIMEZONE:America/New_York
BEGIN:VEVENT
UID:7434@findingconnecticut.com
DTSTART;TZID=America/New_York:20241026T100000
DTEND;TZID=America/New_York:20241026T170000
DTSTAMP:20240811T173857Z
URL:https://findingconnecticut.com/events/miles-huston-overshoot-2-2024-10
 -26/
SUMMARY:Miles Huston: Overshoot
DESCRIPTION:Miles Huston: Overshoot\n Click here for more information \n\
 nThe Aldrich Contemporary Art Museum\n258 Main St\nRidgefield\, CT 06877\n
 \n Click here for the latest news at The Aldrich Contemporary Art Museum\
 n Click here for events at the The Aldrich Contemporary Art Museum\n Cli
 ck here for the latest news in Ridgefield\n Click here for the upcoming e
 vents in Ridgefield \n Click here for the latest news in Fairfield County
 \n Click here for the upcoming events in Fairfield County\n\nTo add an ev
 ent please email us\, we monitor for spam. We need a photo\, description a
 nd website for each submission - We do not accept submissions that are wit
 hin the next 3 days. submissions at findingconnecticut.com
ATTACH;FMTTYPE=image/jpeg:https://findingconnecticut.com/wp-content/upload
 s/2024/08/Screenshot-2024-08-08-at-4.09.48 PM.png
CATEGORIES:Ridgefield
LOCATION:The Aldrich Contemporary Art Museum\, 258 Main St\, Ridgefield\, C
 onnecticut\, 06877\, New England\, United States
X-APPLE-STRUCTURED-LOCATION;VALUE=URI;X-ADDRESS=258 Main St\, Ridgefield\, 
 Connecticut\, 06877\, New England\, United States;X-APPLE-RADIUS=100;X-TIT
 LE=The Aldrich Contemporary Art Museum:geo:0,0
END:VEVENT
BEGIN:VTIMEZONE
TZID:America/New_York
X-LIC-LOCATION:America/New_York
BEGIN:DAYLIGHT
DTSTART:20240310T030000
TZOFFSETFROM:-0500
TZOFFSETTO:-0400
TZNAME:EDT
END:DAYLIGHT
END:VTIMEZONE
END:VCALENDAR