BEGIN:VCALENDAR
VERSION:2.0
PRODID:-//wp-events-plugin.com//7.2.3.1//EN
TZID:America/New_York
X-WR-TIMEZONE:America/New_York
BEGIN:VEVENT
UID:11277@findingconnecticut.com
DTSTART;TZID=America/New_York:20250521T190000
DTEND;TZID=America/New_York:20250521T203000
DTSTAMP:20250426T160229Z
URL:https://findingconnecticut.com/events/mike-cannon-new-york-comedy-club
 -stamford-ct-may-21-2025/
SUMMARY:Mike Cannon
DESCRIPTION:Mike Cannon\nMay 21 2025  •  7 pm\n\n Click here for more 
 information \n\nNew York Comedy Club Stamford \n230 Tresser Blvd\nStamfor
 d\, CT 06901\n\n Click here to return to Finding Connecticut's home page\
 n\nTo add an event please email us\, we monitor for spam. We need a photo\
 , description and website for each submission - We do not accept submissio
 ns that are within the next 3 days. submissions at findingconnecticut.com\
 n\n[caption id="attachment_16083" align="alignnone" width="300"] shop.find
 ingconnecticut.com[/caption]
ATTACH;FMTTYPE=image/jpeg:https://findingconnecticut.com/wp-content/upload
 s/2025/04/unnamed-4-2.jpg
CATEGORIES:Stamford
LOCATION:New York Comedy Club Stamford\, 230 Tresser Blvd\, Stamford\, CT\,
  06901\, New England\, United States
X-APPLE-STRUCTURED-LOCATION;VALUE=URI;X-ADDRESS=230 Tresser Blvd\, Stamford
 \, CT\, 06901\, New England\, United States;X-APPLE-RADIUS=100;X-TITLE=New
  York Comedy Club Stamford:geo:0,0
END:VEVENT
BEGIN:VTIMEZONE
TZID:America/New_York
X-LIC-LOCATION:America/New_York
BEGIN:DAYLIGHT
DTSTART:20250309T030000
TZOFFSETFROM:-0500
TZOFFSETTO:-0400
TZNAME:EDT
END:DAYLIGHT
END:VTIMEZONE
END:VCALENDAR