BEGIN:VCALENDAR
VERSION:2.0
PRODID:-//wp-events-plugin.com//7.2.3.1//EN
TZID:America/New_York
X-WR-TIMEZONE:America/New_York
BEGIN:VEVENT
UID:13839@findingconnecticut.com
DTSTART;TZID=America/New_York:20260226T200000
DTEND;TZID=America/New_York:20260226T223000
DTSTAMP:20260216T165654Z
URL:https://findingconnecticut.com/events/mercy-whip-gehenna-album-release
 -show-space-ballroom-hamden-ct-february-26-2026/
SUMMARY:Mercy Whip: Gehenna Album Release Show
DESCRIPTION:Mercy Whip: Gehenna Album Release Show\nFebruary 26\, 2026  
 •  8 PM\n Click here for more information \n\n Space Ballroom\n425 T
 readwell Street\nHamden\, CT 06514\nAs of March 2025\, all event listings 
 require payment.\nTo submit your event\, please send the event details alo
 ng with a photo and/or logo to submissions at findingconnecticut dot com. 
 You can complete your payment here\nYour event will be published within 2
 4 hours after both payment and all required information have been received
 .\nWe offer discounts for multiple event listings.\nThank you for supporti
 ng Finding Connecticut—your participation helps us grow our website and
  brand.\n(We do not publish any content that has to do with areas outside 
 of Connecticut. If you are looking to post on our Hudson Valley or New Yor
 k City pages\, then contact us via email.)\n\n\n[caption id="attachment_16
 083" align="alignnone" width="300"] shop.findingconnecticut.com[/caption]\
 n\n 
ATTACH;FMTTYPE=image/jpeg:https://findingconnecticut.com/wp-content/upload
 s/2022/02/spaceballroom_logo_biz.jpg
CATEGORIES:Hamden
LOCATION:Space Ballroom\, 295 Treadwell St\,\,  Hamden\, \, Connecticut\, \
 , 06514\, United States
X-APPLE-STRUCTURED-LOCATION;VALUE=URI;X-ADDRESS=295 Treadwell St\,\,  Hamde
 n\, \, Connecticut\, \, 06514\, United States;X-APPLE-RADIUS=100;X-TITLE=S
 pace Ballroom:geo:0,0
END:VEVENT
BEGIN:VTIMEZONE
TZID:America/New_York
X-LIC-LOCATION:America/New_York
BEGIN:STANDARD
DTSTART:20251102T010000
TZOFFSETFROM:-0400
TZOFFSETTO:-0500
TZNAME:EST
END:STANDARD
END:VTIMEZONE
END:VCALENDAR